BEGIN:VCALENDAR
VERSION:2.0
PRODID:-//Connecticut Ornithological Association | COA - ECPv6.15.20//NONSGML v1.0//EN
CALSCALE:GREGORIAN
METHOD:PUBLISH
X-ORIGINAL-URL:https://www.ctbirding.org
X-WR-CALDESC:Events for Connecticut Ornithological Association | COA
REFRESH-INTERVAL;VALUE=DURATION:PT1H
X-Robots-Tag:noindex
X-PUBLISHED-TTL:PT1H
BEGIN:VTIMEZONE
TZID:America/New_York
BEGIN:DAYLIGHT
TZOFFSETFROM:-0500
TZOFFSETTO:-0400
TZNAME:EDT
DTSTART:20250309T070000
END:DAYLIGHT
BEGIN:STANDARD
TZOFFSETFROM:-0400
TZOFFSETTO:-0500
TZNAME:EST
DTSTART:20251102T060000
END:STANDARD
BEGIN:DAYLIGHT
TZOFFSETFROM:-0500
TZOFFSETTO:-0400
TZNAME:EDT
DTSTART:20260308T070000
END:DAYLIGHT
BEGIN:STANDARD
TZOFFSETFROM:-0400
TZOFFSETTO:-0500
TZNAME:EST
DTSTART:20261101T060000
END:STANDARD
BEGIN:DAYLIGHT
TZOFFSETFROM:-0500
TZOFFSETTO:-0400
TZNAME:EDT
DTSTART:20270314T070000
END:DAYLIGHT
BEGIN:STANDARD
TZOFFSETFROM:-0400
TZOFFSETTO:-0500
TZNAME:EST
DTSTART:20271107T060000
END:STANDARD
END:VTIMEZONE
BEGIN:VEVENT
DTSTART;TZID=America/New_York:20260411T090000
DTEND;TZID=America/New_York:20260411T110000
DTSTAMP:20260423T185926
CREATED:20260316T172521Z
LAST-MODIFIED:20260321T213725Z
UID:10009351-1775898000-1775905200@www.ctbirding.org
SUMMARY:CT Audubon\, RTP Estuary Center: Coastal Bird Walk
DESCRIPTION:Saturday\, April 11\, 2026\n9:00am – 11:00am \nFenwick\, Old Saybrook \nBefore the rush of spring warblers and other songbirds\, birders in Connecticut should head to the coast to see the start of shorebird migration and the last of our winter waterfowl before these incredible birds head north to breed. Located at the mouth of the Connecticut River and jutting into Long Island Sound\, Old Saybrook is uniquely situated to get a diversity of species in spring. We’ll search for sandpipers and plovers\, sea ducks and dabblers along one of the best spots in Southeastern Connecticut.The walk will be approximately 1 mile on level paved\, dirt\, and sandy terrain. Exposure to wind\, sun\, and cold is possible depending on the weather. No restrooms on site.  \nMembers: $13\nNon-members: $18 \nRegister here: Coastal Bird Walk – The Connecticut Audubon Society
URL:https://www.ctbirding.org/eventcal/rtp-estuary-center-coastal-bird-walk/
LOCATION:Fenwick\, Old Saybrook\, United States
CATEGORIES:CT Audubon,Roger Tory Peterson Estuary Center,Walk
ATTACH;FMTTYPE=image/jpeg:https://www.ctbirding.org/wp-content/uploads/Solitary-Sandpipers_5961_SMorytko-scaled.jpg
END:VEVENT
END:VCALENDAR