BEGIN:VCALENDAR
VERSION:2.0
PRODID:-//Connecticut Ornithological Association | COA - ECPv6.15.20//NONSGML v1.0//EN
CALSCALE:GREGORIAN
METHOD:PUBLISH
X-ORIGINAL-URL:https://www.ctbirding.org
X-WR-CALDESC:Events for Connecticut Ornithological Association | COA
REFRESH-INTERVAL;VALUE=DURATION:PT1H
X-Robots-Tag:noindex
X-PUBLISHED-TTL:PT1H
BEGIN:VTIMEZONE
TZID:America/New_York
BEGIN:DAYLIGHT
TZOFFSETFROM:-0500
TZOFFSETTO:-0400
TZNAME:EDT
DTSTART:20250309T070000
END:DAYLIGHT
BEGIN:STANDARD
TZOFFSETFROM:-0400
TZOFFSETTO:-0500
TZNAME:EST
DTSTART:20251102T060000
END:STANDARD
BEGIN:DAYLIGHT
TZOFFSETFROM:-0500
TZOFFSETTO:-0400
TZNAME:EDT
DTSTART:20260308T070000
END:DAYLIGHT
BEGIN:STANDARD
TZOFFSETFROM:-0400
TZOFFSETTO:-0500
TZNAME:EST
DTSTART:20261101T060000
END:STANDARD
BEGIN:DAYLIGHT
TZOFFSETFROM:-0500
TZOFFSETTO:-0400
TZNAME:EDT
DTSTART:20270314T070000
END:DAYLIGHT
BEGIN:STANDARD
TZOFFSETFROM:-0400
TZOFFSETTO:-0500
TZNAME:EST
DTSTART:20271107T060000
END:STANDARD
END:VTIMEZONE
BEGIN:VEVENT
DTSTART;TZID=America/New_York:20260523T060000
DTEND;TZID=America/New_York:20260523T140000
DTSTAMP:20260420T123420
CREATED:20260416T142403Z
LAST-MODIFIED:20260416T142403Z
UID:10009428-1779516000-1779544800@www.ctbirding.org
SUMMARY:CT Audubon Eco-Travel: Croft Preserve Field Trip
DESCRIPTION:Saturday\, May 23\, 2026\n6:00am – 2:00pm \n\nGoshen\, Connecticut\nLed By Matt Bell\n\nMembers:    $85\nNon-Members:    $100 \n\nFor more info and to register:\n(860) 767-0660\necotravel@ctaudubon.org\n\n\n\nLocated in Goshen\, our Croft Preserve is within one of the largest contiguous forest blocks in the state. The fantastic mix of habitats found throughout the preserve are the historic home of uncommon and rare breeding species\, including Ruffed Grouse and American Goshawk. Since the property is managed primarily for wildlife\, the terrain is steep and challenging to navigate. The property also is home to moose\, porcupines\, and more.\n\nRegister here:  Connecticut Audubon’s Croft Preserve | May 23\, 6:00am – 2:00pm | The Connecticut Audubon Society
URL:https://www.ctbirding.org/eventcal/ct-audubon-eco-travel-croft-preserve-field-trip/
LOCATION:Croft’s Preserve\, Goshen\, CT\, United States
CATEGORIES:CT Audubon,EcoTravel,Field Trip
END:VEVENT
END:VCALENDAR