BEGIN:VCALENDAR
VERSION:2.0
PRODID:-//Connecticut Ornithological Association | COA - ECPv6.15.20//NONSGML v1.0//EN
CALSCALE:GREGORIAN
METHOD:PUBLISH
X-WR-CALNAME:Connecticut Ornithological Association | COA
X-ORIGINAL-URL:https://www.ctbirding.org
X-WR-CALDESC:Events for Connecticut Ornithological Association | COA
REFRESH-INTERVAL;VALUE=DURATION:PT1H
X-Robots-Tag:noindex
X-PUBLISHED-TTL:PT1H
BEGIN:VTIMEZONE
TZID:America/New_York
BEGIN:DAYLIGHT
TZOFFSETFROM:-0500
TZOFFSETTO:-0400
TZNAME:EDT
DTSTART:20250309T070000
END:DAYLIGHT
BEGIN:STANDARD
TZOFFSETFROM:-0400
TZOFFSETTO:-0500
TZNAME:EST
DTSTART:20251102T060000
END:STANDARD
BEGIN:DAYLIGHT
TZOFFSETFROM:-0500
TZOFFSETTO:-0400
TZNAME:EDT
DTSTART:20260308T070000
END:DAYLIGHT
BEGIN:STANDARD
TZOFFSETFROM:-0400
TZOFFSETTO:-0500
TZNAME:EST
DTSTART:20261101T060000
END:STANDARD
BEGIN:DAYLIGHT
TZOFFSETFROM:-0500
TZOFFSETTO:-0400
TZNAME:EDT
DTSTART:20270314T070000
END:DAYLIGHT
BEGIN:STANDARD
TZOFFSETFROM:-0400
TZOFFSETTO:-0500
TZNAME:EST
DTSTART:20271107T060000
END:STANDARD
END:VTIMEZONE
BEGIN:VEVENT
DTSTART;TZID=America/New_York:20260422T120000
DTEND;TZID=America/New_York:20260422T150000
DTSTAMP:20260423T051534
CREATED:20260401T163849Z
LAST-MODIFIED:20260401T181951Z
UID:10009397-1776859200-1776870000@www.ctbirding.org
SUMMARY:CT Audubon\, Coastal Center at Milford Point:  Spring Bird Walk
DESCRIPTION:Wednesday\, April 22\, 2026\n12:00pm – 3:00pm\nCoastal Center at Milford Point\n \n1 Milford Point Road\nMilford\, CT 06460\n203-878-7440\nmilford@ctaudubon.org\n\nMembers $15\nNon-members $20\n\n\n\n\nJoin local birding expert Frank Mantlik for a spring bird walk! The Coastal Center is a hub for wildlife all times of the year\, so we’ll take you to some of our favorite sites around the sanctuary’s salt marsh\, woodlands\, and sandbar to look for a variety of birds. Beginner birders are welcome. The Coastal Center has a limited supply of binoculars to loan out if needed. \nBe sure to check the coastal forecast: we recommend bringing an extra layer\, as it tends to get windy at the coast. This walk will last 2-3 hours\, so you’ll want to bring good walking shoes\, a reusable water bottle\, and binoculars. \nThis walk is subject to cancellation in the event of bad weather. If a walk is cancelled\, you will be offered to transfer your registration to a rescheduled date or receive a refund. \n\n \nRegister here:  Coastal Bird Walk | Apr 22\, 12:00pm – 3:00pm | Milford Point | The Connecticut Audubon Society\n\n 
URL:https://www.ctbirding.org/eventcal/ct-audubon-coastal-center-milford-point-spring-bird-walk-3/
LOCATION:Connecticut Audubon Society Coastal Center at Milford Point\, 1 Milford Point Rd\, Milford\, CT\, 06460\, United States
CATEGORIES:Coastal Center at Milford Point,CT Audubon,Walk
ATTACH;FMTTYPE=image/jpeg:https://www.ctbirding.org/wp-content/uploads/Semipalmated-Sandpiper-C.-Ehlinger.jpg
END:VEVENT
BEGIN:VEVENT
DTSTART;TZID=America/New_York:20260411T100000
DTEND;TZID=America/New_York:20260411T130000
DTSTAMP:20260423T051534
CREATED:20260401T163624Z
LAST-MODIFIED:20260401T182550Z
UID:10009396-1775901600-1775912400@www.ctbirding.org
SUMMARY:CT Audubon\, Coastal Center at Milford Point: Spring Bird Walk
DESCRIPTION:Saturday\, April 11\, 2026\n10:00am – 1:00pm\nCoastal Center at Milford Point\n \n1 Milford Point Road\nMilford\, CT 06460\n203-878-7440\nmilford@ctaudubon.org\n\nMembers $15\nNon-members $20\n\n\n\n\nJoin local birding expert Frank Mantlik for a spring bird walk! The Coastal Center is a hub for wildlife all times of the year\, so we’ll take you to some of our favorite sites around the sanctuary’s salt marsh\, woodlands\, and sandbar to look for a variety of birds. Beginner birders are welcome. The Coastal Center has a limited supply of binoculars to loan out if needed. \nBe sure to check the coastal forecast: we recommend bringing an extra layer\, as it tends to get windy at the coast. This walk will last 2-3 hours\, so you’ll want to bring good walking shoes\, a reusable water bottle\, and binoculars. \nThis walk is subject to cancellation in the event of bad weather. If a walk is cancelled\, you will be offered to transfer your registration to a rescheduled date or receive a refund. \n\n \nRegister here:  Coastal Bird Walk | Apr 11\, 10:00am – 1:00pm | Milford Point | The Connecticut Audubon Society
URL:https://www.ctbirding.org/eventcal/ct-audubon-coastal-center-milford-point-spring-bird-walk-2/
LOCATION:Connecticut Audubon Society Coastal Center at Milford Point\, 1 Milford Point Rd\, Milford\, CT\, 06460\, United States
CATEGORIES:Coastal Center at Milford Point,CT Audubon,Walk
ATTACH;FMTTYPE=image/jpeg:https://www.ctbirding.org/wp-content/uploads/Least-Sandpiper-GP-2021-C-Ehlinger.jpg
END:VEVENT
BEGIN:VEVENT
DTSTART;TZID=America/New_York:20260404T100000
DTEND;TZID=America/New_York:20260404T130000
DTSTAMP:20260423T051534
CREATED:20260401T163221Z
LAST-MODIFIED:20260401T182327Z
UID:10009395-1775296800-1775307600@www.ctbirding.org
SUMMARY:CT Audubon\, Coastal Center at Milford Point: Spring Bird Walk
DESCRIPTION:Saturday\, April 4\, 2026\n10:00am – 1:00pm\nCoastal Center at Milford Point\n \n1 Milford Point Road\nMilford\, CT 06460\n203-878-7440\nmilford@ctaudubon.org\n\nMembers $15\nNon-members $20\n\n\n\nJoin local birding expert Frank Mantlik for a spring bird walk! The Coastal Center is a hub for wildlife all times of the year\, so we’ll take you to some of our favorite sites around the sanctuary’s salt marsh\, woodlands\, and sandbar to look for a variety of birds. Beginner birders are welcome. The Coastal Center has a limited supply of binoculars to loan out if needed.\n\nBe sure to check the coastal forecast: we recommend bringing an extra layer\, as it tends to get windy at the coast. This walk will last 2-3 hours\, so you’ll want to bring good walking shoes\, a reusable water bottle\, and binoculars.This walk is subject to cancellation in the event of bad weather. If a walk is cancelled\, you will be offered to transfer your registration to a rescheduled date or receive a refund. \n\n \nRegister here:  Coastal Bird Walk | Apr 4\, 10:00am – 1:00pm | Milford Point | The Connecticut Audubon Society
URL:https://www.ctbirding.org/eventcal/ct-audubon-coastal-center-milford-point-spring-bird-walk/
LOCATION:Connecticut Audubon Society Coastal Center at Milford Point\, 1 Milford Point Rd\, Milford\, CT\, 06460\, United States
CATEGORIES:Coastal Center at Milford Point,CT Audubon,Walk
ATTACH;FMTTYPE=image/jpeg:https://www.ctbirding.org/wp-content/uploads/Semipalmated-Sandpiper-C.-Ehlinger.jpg
END:VEVENT
BEGIN:VEVENT
DTSTART;TZID=America/New_York:20260321T090000
DTEND;TZID=America/New_York:20260321T120000
DTSTAMP:20260423T051534
CREATED:20260315T152726Z
LAST-MODIFIED:20260320T202214Z
UID:10009327-1774083600-1774094400@www.ctbirding.org
SUMMARY:CT Audubon\, Milford Point: Coastal Bird Walks
DESCRIPTION:THE COASTAL CENTER AT MILFORD POINT:\n \nCoastal Bird Walks:\nWednesday\, March 18\, 2026\n8:30am – 11:30am\n \nSaturday\, March 21\, 2026\n9:00am – 12:00pm\n \n\nJoin local birding expert Frank Mantlik for winter and spring bird walks! The Coastal Center is a hub for wildlife all times of the year\, so we’ll take you to some of our favorite sites around the sanctuary’s salt marsh\, woodlands\, and sandbar to look for a variety of birds. Beginner birders are welcome. The Coastal Center has a limited supply of binoculars to loan out if needed. \nBe sure to check the coastal forecast: we recommend bringing an extra layer\, as it tends to get windy at the coast. This walk will last 2-3 hours\, so you’ll want to bring good walking shoes\, a reusable water bottle\, and binoculars. \nThis walk is subject to cancellation in the event of bad weather. If a walk is cancelled\, you will be offered to transfer your registration to a rescheduled date or receive a refund. \n\n \nMembers: $15\nNon-members: $20\nRegister here: Coastal Bird Walk – The Connecticut Audubon Society
URL:https://www.ctbirding.org/eventcal/ct-audubon-milford-point-coastal-bird-walks/2026-03-21/
LOCATION:Connecticut Audubon Society Coastal Center at Milford Point\, 1 Milford Point Rd\, Milford\, CT\, 06460\, United States
CATEGORIES:Coastal Center at Milford Point,CT Audubon,Walk
ATTACH;FMTTYPE=image/jpeg:https://www.ctbirding.org/wp-content/uploads/DSC_0158.NEF_-e1639661433348.jpg
END:VEVENT
BEGIN:VEVENT
DTSTART;TZID=America/New_York:20260318T083000
DTEND;TZID=America/New_York:20260318T113000
DTSTAMP:20260423T051534
CREATED:20260315T152726Z
LAST-MODIFIED:20260320T202214Z
UID:10009326-1773822600-1773833400@www.ctbirding.org
SUMMARY:CT Audubon\, Milford Point: Coastal Bird Walks
DESCRIPTION:THE COASTAL CENTER AT MILFORD POINT:\n \nCoastal Bird Walks:\nWednesday\, March 18\, 2026\n8:30am – 11:30am\n \nSaturday\, March 21\, 2026\n9:00am – 12:00pm\n \n\nJoin local birding expert Frank Mantlik for winter and spring bird walks! The Coastal Center is a hub for wildlife all times of the year\, so we’ll take you to some of our favorite sites around the sanctuary’s salt marsh\, woodlands\, and sandbar to look for a variety of birds. Beginner birders are welcome. The Coastal Center has a limited supply of binoculars to loan out if needed. \nBe sure to check the coastal forecast: we recommend bringing an extra layer\, as it tends to get windy at the coast. This walk will last 2-3 hours\, so you’ll want to bring good walking shoes\, a reusable water bottle\, and binoculars. \nThis walk is subject to cancellation in the event of bad weather. If a walk is cancelled\, you will be offered to transfer your registration to a rescheduled date or receive a refund. \n\n \nMembers: $15\nNon-members: $20\nRegister here: Coastal Bird Walk – The Connecticut Audubon Society
URL:https://www.ctbirding.org/eventcal/ct-audubon-milford-point-coastal-bird-walks/2026-03-18/
LOCATION:Connecticut Audubon Society Coastal Center at Milford Point\, 1 Milford Point Rd\, Milford\, CT\, 06460\, United States
CATEGORIES:Coastal Center at Milford Point,CT Audubon,Walk
ATTACH;FMTTYPE=image/jpeg:https://www.ctbirding.org/wp-content/uploads/DSC_0158.NEF_-e1639661433348.jpg
END:VEVENT
BEGIN:VEVENT
DTSTART;TZID=America/New_York:20260226T090000
DTEND;TZID=America/New_York:20260226T120000
DTSTAMP:20260423T051534
CREATED:20260212T142627Z
LAST-MODIFIED:20260215T231420Z
UID:10009246-1772096400-1772107200@www.ctbirding.org
SUMMARY:CT Audubon Milford Point: Bird Walks at the Coastal Center
DESCRIPTION:MILFORD POINT\n\nBird Walks at the Coastal Center\n\nJoin local birding expert Frank Mantlik for winter and spring bird walks! The Coastal Center is a hub for wildlife all times of the year\, so we’ll take you to some of our favorite sites around the sanctuary’s salt marsh\, woodlands\, and sandbar to look for a variety of birds. Beginner birders are welcome. The Coastal Center has a limited supply of binoculars to loan out if needed. \n \nBe sure to check the coastal forecast: we recommend bringing an extra layer\, as it tends to get windy at the coast. This walk will last 2-3 hours\, so you’ll want to bring good walking shoes\, a reusable water bottle\, and binoculars.\n\nPricing:\nMembers\, $15\nNon-members\, $20\nSpaces are limited\, and pre-registration is required.\n \nFebruary 14\, 10:00 a.m.: Register Here!\n \nFebruary 26\, 9:00 a.m.: Register Here!\n \nThis walk is subject to cancellation in the event of bad weather. If a walk is cancelled\, you will be offered to transfer your registration to a rescheduled date or receive a refund.
URL:https://www.ctbirding.org/eventcal/ct-audubon-milford-point-bird-walks-at-the-coastal-center/2026-02-26/
LOCATION:Connecticut Audubon Society Coastal Center at Milford Point\, 1 Milford Point Rd\, Milford\, CT\, 06460\, United States
CATEGORIES:Coastal Center at Milford Point,Walk
ATTACH;FMTTYPE=image/jpeg:https://www.ctbirding.org/wp-content/uploads/HOLA-Long-Beach-CT-e1662502070654.jpeg
END:VEVENT
BEGIN:VEVENT
DTSTART;TZID=America/New_York:20260214T100000
DTEND;TZID=America/New_York:20260214T130000
DTSTAMP:20260423T051534
CREATED:20260212T142627Z
LAST-MODIFIED:20260215T231420Z
UID:10009245-1771063200-1771074000@www.ctbirding.org
SUMMARY:CT Audubon Milford Point: Bird Walks at the Coastal Center
DESCRIPTION:MILFORD POINT\n\nBird Walks at the Coastal Center\n\nJoin local birding expert Frank Mantlik for winter and spring bird walks! The Coastal Center is a hub for wildlife all times of the year\, so we’ll take you to some of our favorite sites around the sanctuary’s salt marsh\, woodlands\, and sandbar to look for a variety of birds. Beginner birders are welcome. The Coastal Center has a limited supply of binoculars to loan out if needed. \n \nBe sure to check the coastal forecast: we recommend bringing an extra layer\, as it tends to get windy at the coast. This walk will last 2-3 hours\, so you’ll want to bring good walking shoes\, a reusable water bottle\, and binoculars.\n\nPricing:\nMembers\, $15\nNon-members\, $20\nSpaces are limited\, and pre-registration is required.\n \nFebruary 14\, 10:00 a.m.: Register Here!\n \nFebruary 26\, 9:00 a.m.: Register Here!\n \nThis walk is subject to cancellation in the event of bad weather. If a walk is cancelled\, you will be offered to transfer your registration to a rescheduled date or receive a refund.
URL:https://www.ctbirding.org/eventcal/ct-audubon-milford-point-bird-walks-at-the-coastal-center/2026-02-14/
LOCATION:Connecticut Audubon Society Coastal Center at Milford Point\, 1 Milford Point Rd\, Milford\, CT\, 06460\, United States
CATEGORIES:Coastal Center at Milford Point,Walk
ATTACH;FMTTYPE=image/jpeg:https://www.ctbirding.org/wp-content/uploads/HOLA-Long-Beach-CT-e1662502070654.jpeg
END:VEVENT
END:VCALENDAR