BEGIN:VCALENDAR
VERSION:2.0
PRODID:-//Connecticut Ornithological Association | COA - ECPv6.15.20//NONSGML v1.0//EN
CALSCALE:GREGORIAN
METHOD:PUBLISH
X-WR-CALNAME:Connecticut Ornithological Association | COA
X-ORIGINAL-URL:https://www.ctbirding.org
X-WR-CALDESC:Events for Connecticut Ornithological Association | COA
REFRESH-INTERVAL;VALUE=DURATION:PT1H
X-Robots-Tag:noindex
X-PUBLISHED-TTL:PT1H
BEGIN:VTIMEZONE
TZID:America/New_York
BEGIN:DAYLIGHT
TZOFFSETFROM:-0500
TZOFFSETTO:-0400
TZNAME:EDT
DTSTART:20250309T070000
END:DAYLIGHT
BEGIN:STANDARD
TZOFFSETFROM:-0400
TZOFFSETTO:-0500
TZNAME:EST
DTSTART:20251102T060000
END:STANDARD
BEGIN:DAYLIGHT
TZOFFSETFROM:-0500
TZOFFSETTO:-0400
TZNAME:EDT
DTSTART:20260308T070000
END:DAYLIGHT
BEGIN:STANDARD
TZOFFSETFROM:-0400
TZOFFSETTO:-0500
TZNAME:EST
DTSTART:20261101T060000
END:STANDARD
BEGIN:DAYLIGHT
TZOFFSETFROM:-0500
TZOFFSETTO:-0400
TZNAME:EDT
DTSTART:20270314T070000
END:DAYLIGHT
BEGIN:STANDARD
TZOFFSETFROM:-0400
TZOFFSETTO:-0500
TZNAME:EST
DTSTART:20271107T060000
END:STANDARD
END:VTIMEZONE
BEGIN:VEVENT
DTSTART;TZID=America/New_York:20260606T020000
DTEND;TZID=America/New_York:20260607T015959
DTSTAMP:20260422T235703
CREATED:20260209T013645Z
LAST-MODIFIED:20260321T203238Z
UID:10009392-1780711200-1780797599@www.ctbirding.org
SUMMARY:Greenwich-Stamford Summer Bird Count
DESCRIPTION:Become a community scientist and help count birds in your neighborhood or on a count team for our annual Summer Bird Count! \nHeld on two days in June\, the scope of the Summer Bird Count is similar to the Christmas Bird Count in its count circle extent covering Greenwich\, Stamford\, Darien and parts of Westchester County NY. Not only does it provide a good excuse to spend a day birding in warm weather\, but it is also a very important way for researchers to learn important information about the locations of breeding birds. \nTo join a counting team in your neighborhood or become a Team Captain\, please contact count compilers Tom Burke or Ryan MacLean at the lines of contact below: \nTOM BURKE Cell Phone: (914) 282-3497 Home Phone: (914) 967-4922 Email: thomaswardburke@gmail.com \nRYAN MACLEAN Office Phone: (203) 930-1353 Email: ryan.maclean@audubon.org \nIf you would like to join in counting efforts at the Greenwich Audubon Center on Saturday\, June 6th at 6 a.m. contact Ryan MacLean at ryan.maclean@audubon.org. \nThe Count Compilation will be held (weather permitting) at Greenwich Audubon on the Quaker Ridge Hawk Watch Lawn on Sunday\, June 7th at 2 p.m. \nTHERE IS NO ONLINE REGISTRATION FOR THIS EVENT. TO PARTICIPATE PLEASE CONTACT THE INDIVIDUALS LISTED ABOVE. \n 
URL:https://www.ctbirding.org/eventcal/greenwich-stamford-summer-bird-count/2026-06-06/
LOCATION:CT
ATTACH;FMTTYPE=image/jpeg:https://www.ctbirding.org/wp-content/uploads/Summer-Tanager-1070-1-e1496371083967.jpg
END:VEVENT
BEGIN:VEVENT
DTSTART;TZID=America/New_York:20260606T080000
DTEND;TZID=America/New_York:20260606T100000
DTSTAMP:20260422T235703
CREATED:20260208T234736Z
LAST-MODIFIED:20260311T174437Z
UID:10009231-1780732800-1780740000@www.ctbirding.org
SUMMARY:Mattabeseck Audubon Society & CT Trails Day: Birding Machimoodus State Park
DESCRIPTION:Join MAS board secretary\, and Christmas Count compiler\, Sharon Dellinger\, for a birding hike at one of Connecticut’s treasured state parks!  Plan on seeing and hearing Orchard Oriole\, Baltimore Oriole\, Indigo Bunting\, Field Sparrow\, Prairie Warbler to name a few of the reliable species seen here. \nIf you need to borrow a pair of binoculars let Sharon know ahead of time.  Walk limited to 12 participants. \nContact Sharon via email: rsdell@comcast.net or via cell 860-803-1626.  This is a CT Trails Day Event! \nSign up through CT Trails Day preferred\, click on link: \nSpring Bird Walk At Machimoodus State Park \n \n 
URL:https://www.ctbirding.org/eventcal/mattabeseck-audubon-society-ct-trails-day-birding-machimoodus-state-park/
LOCATION:Machimoodus State Park\, Lawn Ave & High St\, Middletown\, CT\, United States
ORGANIZER;CN="Mattabeseck Audubon Society":MAILTO:mattabeseck@mac.com
END:VEVENT
BEGIN:VEVENT
DTSTART;TZID=America/New_York:20260607T053000
DTEND;TZID=America/New_York:20260607T143000
DTSTAMP:20260422T235703
CREATED:20260209T013645Z
LAST-MODIFIED:20260321T203238Z
UID:10009393-1780810200-1780842600@www.ctbirding.org
SUMMARY:Greenwich-Stamford Summer Bird Count
DESCRIPTION:Become a community scientist and help count birds in your neighborhood or on a count team for our annual Summer Bird Count! \nHeld on two days in June\, the scope of the Summer Bird Count is similar to the Christmas Bird Count in its count circle extent covering Greenwich\, Stamford\, Darien and parts of Westchester County NY. Not only does it provide a good excuse to spend a day birding in warm weather\, but it is also a very important way for researchers to learn important information about the locations of breeding birds. \nTo join a counting team in your neighborhood or become a Team Captain\, please contact count compilers Tom Burke or Ryan MacLean at the lines of contact below: \nTOM BURKE Cell Phone: (914) 282-3497 Home Phone: (914) 967-4922 Email: thomaswardburke@gmail.com \nRYAN MACLEAN Office Phone: (203) 930-1353 Email: ryan.maclean@audubon.org \nIf you would like to join in counting efforts at the Greenwich Audubon Center on Saturday\, June 6th at 6 a.m. contact Ryan MacLean at ryan.maclean@audubon.org. \nThe Count Compilation will be held (weather permitting) at Greenwich Audubon on the Quaker Ridge Hawk Watch Lawn on Sunday\, June 7th at 2 p.m. \nTHERE IS NO ONLINE REGISTRATION FOR THIS EVENT. TO PARTICIPATE PLEASE CONTACT THE INDIVIDUALS LISTED ABOVE. \n 
URL:https://www.ctbirding.org/eventcal/greenwich-stamford-summer-bird-count/2026-06-07/
LOCATION:CT
ATTACH;FMTTYPE=image/jpeg:https://www.ctbirding.org/wp-content/uploads/Summer-Tanager-1070-1-e1496371083967.jpg
END:VEVENT
BEGIN:VEVENT
DTSTART;TZID=America/New_York:20260607T060000
DTEND;TZID=America/New_York:20260607T181500
DTSTAMP:20260422T235703
CREATED:20260209T013843Z
LAST-MODIFIED:20260209T013843Z
UID:10009237-1780812000-1780856100@www.ctbirding.org
SUMMARY:Greenwich Stamford Summer Bird Count
DESCRIPTION:Become a community scientist and help count birds in your neighborhood or on a count team for our annual Summer Bird Count! \nHeld on two days in June\, the scope of the Summer Bird Count is similar to the Christmas Bird Count in its count circle extent covering Greenwich\, Stamford\, Darien and parts of Westchester County NY. Not only does it provide a good excuse to spend a day birding in warm weather\, but it is also a very important way for researchers to learn important information about the locations of breeding birds. \nTo join a counting team in your neighborhood or become a Team Captain\, please contact count compilers Tom Burke or Ryan MacLean at the lines of contact below: \nTOM BURKE Cell Phone: (914) 282-3497 Home Phone: (914) 967-4922 Email: thomaswardburke@gmail.com \nRYAN MACLEAN Office Phone: (203) 930-1353 Email: ryan.maclean@audubon.org \nIf you would like to join in counting efforts at the Greenwich Audubon Center on Saturday\, June 6th at 6 a.m. contact Ryan MacLean at ryan.maclean@audubon.org. \nThe Count Compilation will be held (weather permitting) at Greenwich Audubon on the Quaker Ridge Hawk Watch Lawn on Sunday\, June 7th at 2 p.m. \nPhoto: Scarlet Tanager by Linda Steele / Audubon Photography Awards \nTHERE IS NO ONLINE REGISTRATION FOR THIS EVENT. TO PARTICIPATE PLEASE CONTACT THE INDIVIDUALS LISTED ABOVE.
URL:https://www.ctbirding.org/eventcal/greenwich-stamford-summer-bird-count-2/
LOCATION:CT
END:VEVENT
BEGIN:VEVENT
DTSTART;TZID=America/New_York:20260613T080000
DTEND;TZID=America/New_York:20260614T170000
DTSTAMP:20260422T235703
CREATED:20260306T165017Z
LAST-MODIFIED:20260306T165017Z
UID:10009303-1781337600-1781456400@www.ctbirding.org
SUMMARY:Hartford Audubon Society: - Annual Summer Bird Count
DESCRIPTION:Annual Summer Bird Count – Jun 13-14 – Sat & Sun  \nBird Count Circle. 7.5-mile radius from Old State House \nJoin Hartford Audubon members as we participate in the annual\nSummer Bird Count. Species and numbers are counted on this two\nday tally within our Christmas Count circle. Bird one day or both\nand help collect breeding-bird data and track species trends for\nConnecticut. Bird for an hour or bird all weekend. \nJay Kaplan – jaybrd49@aol.com – 860-693-0157 – 860-707-5246 T
URL:https://www.ctbirding.org/eventcal/hartford-audubon-society-annual-summer-bird-count/
LOCATION:CT
CATEGORIES:Bird Count,Free,Hartford Audubon
END:VEVENT
END:VCALENDAR