BEGIN:VCALENDAR
VERSION:2.0
PRODID:-//Connecticut Ornithological Association | COA - ECPv6.15.20//NONSGML v1.0//EN
CALSCALE:GREGORIAN
METHOD:PUBLISH
X-WR-CALNAME:Connecticut Ornithological Association | COA
X-ORIGINAL-URL:https://www.ctbirding.org
X-WR-CALDESC:Events for Connecticut Ornithological Association | COA
REFRESH-INTERVAL;VALUE=DURATION:PT1H
X-Robots-Tag:noindex
X-PUBLISHED-TTL:PT1H
BEGIN:VTIMEZONE
TZID:America/New_York
BEGIN:DAYLIGHT
TZOFFSETFROM:-0500
TZOFFSETTO:-0400
TZNAME:EDT
DTSTART:20250309T070000
END:DAYLIGHT
BEGIN:STANDARD
TZOFFSETFROM:-0400
TZOFFSETTO:-0500
TZNAME:EST
DTSTART:20251102T060000
END:STANDARD
BEGIN:DAYLIGHT
TZOFFSETFROM:-0500
TZOFFSETTO:-0400
TZNAME:EDT
DTSTART:20260308T070000
END:DAYLIGHT
BEGIN:STANDARD
TZOFFSETFROM:-0400
TZOFFSETTO:-0500
TZNAME:EST
DTSTART:20261101T060000
END:STANDARD
BEGIN:DAYLIGHT
TZOFFSETFROM:-0500
TZOFFSETTO:-0400
TZNAME:EDT
DTSTART:20270314T070000
END:DAYLIGHT
BEGIN:STANDARD
TZOFFSETFROM:-0400
TZOFFSETTO:-0500
TZNAME:EST
DTSTART:20271107T060000
END:STANDARD
END:VTIMEZONE
BEGIN:VEVENT
DTSTART;TZID=America/New_York:20260214T170000
DTEND;TZID=America/New_York:20260214T183000
DTSTAMP:20260424T143636
CREATED:20260117T185721Z
LAST-MODIFIED:20260117T185721Z
UID:10009205-1771088400-1771093800@www.ctbirding.org
SUMMARY:Audubon CT Greenwich: Owl Prowl at Montgomery Pinetum
DESCRIPTION:The winter months are a magical time to possibly hear or see the resident owl species of Connecticut. Join Greenwich Audubon naturalist Ryan MacLean in partnership with the Greenwich Botanical Center in the Montgomery Pinetum for a special evening program to learn about and search for our nocturnal avian predators. The program will start with an indoor slide show in the Greenwich Botanical Center Main Building where you will learn about owl life history\, the species that call our region home both year-round and during the winter as well as how you can help protect owls in your neighborhood habitats. \nFollowing this indoor portion\, we will quietly venture outside to listen and look for owls on the grounds of Montgomery Pinetum. While hearing or seeing owls is far from guaranteed\, Ryan will guide the group on how to safely look and listen for these birds in areas of appropriate habitat. \nThis program also coincides with Cornell’s Great Backyard Bird Count and you will learn how to submit checklists of birds you see\, including owls to this weekend-long global bird survey! \nProgram Fees: $20 Suggested Donation for GBC/Audubon Non-Members | Free for GBC/Audubon Members \nThere is a strict capacity limit of 20 people so please register in advance. \nGreenwich Botanical Center is located in the Montgomery Pinetum at 130 Bible St\, Cos Cob CT approximately 20 minutes from the Greenwich Audubon Center.
URL:https://www.ctbirding.org/eventcal/audubon-ct-greenwich-owl-prowl-at-montgomery-pinetum/
LOCATION:Montgomery Pinetum\, Greenwich Botanical Center\, 130 Bible St\, Cos Cob\, 06807\, United States
END:VEVENT
BEGIN:VEVENT
DTSTART;TZID=America/New_York:20260215T090000
DTEND;TZID=America/New_York:20260215T110000
DTSTAMP:20260424T143636
CREATED:20260119T141340Z
LAST-MODIFIED:20260119T141340Z
UID:10009219-1771146000-1771153200@www.ctbirding.org
SUMMARY:CVH Animal Sanctuary: Great Backyard Bird Count Walk
DESCRIPTION:Great Backyard Bird Count Walk\nDate: February 15\, 2026\nTime: 9am-11:00am\nLocation: CVH Animal Sanctuary\, 8 Commerce Road\, Newtown (Catherine’s Learning Barn)\nExpert: Ken Elkins\, Director of Education & Partnerships\nAll ages (children must be accompanied by a registered adult)\nFREE\nRegistration limited to 25 participants\n*For the safety and comfort for all\, no pets are allowed.\nJoin us for a special naturalist-led bird walk to participate in the annual Great Backyard Bird Count! Learn basic bird identification and how to be part of this global citizen science project. An exciting way to observe and count the birds spending the winter at the sanctuary while making a difference. All skill levels are welcome to contribute valuable data. Binoculars will be provided.\nhttps://www.cvhfoundation.org/event/great-backyard-bird-count/
URL:https://www.ctbirding.org/eventcal/cvh-animal-sanctuary-great-backyard-bird-count-walk/
LOCATION:Catherine Violet Hubbard Animal Sanctuary\, 8 Commerce Rd.\, Newtown\, CT\, 06470\, United States
CATEGORIES:Free,Walk
END:VEVENT
BEGIN:VEVENT
DTSTART;TZID=America/New_York:20260218T090000
DTEND;TZID=America/New_York:20260218T110000
DTSTAMP:20260424T143636
CREATED:20251121T151122Z
LAST-MODIFIED:20251229T031719Z
UID:10009064-1771405200-1771412400@www.ctbirding.org
SUMMARY:CT Audubon Pomfret: Plainfield Fish Hatchery Bird Walk
DESCRIPTION:Plainfield Fish Hatchery Bird Walk\nWednesday\, February 18\, 2026\, at 9 a.m.\n \nEnjoy a late winter bird walk at the Quinebaug Valley State Fish Hatchery\, located in Plainfield.\n \nFee: $10 CAS members; $20 non-members.\n \nRegistration is required for the following programs. Please register by emailing Andy Rzeznikiewicz at arzeznikiewicz@ctaudubon.org or calling 860-928-4948.
URL:https://www.ctbirding.org/eventcal/ct-audubon-pomfret-plainfield-fish-hatchery-bird-walk-2/
LOCATION:Plainfield Fish Hatchery\, 145 Trout Hatchery Road\,\, Plainfield\, CT\, 06374\, United States
CATEGORIES:CT Audubon,Pomfret,Walk
ATTACH;FMTTYPE=image/jpeg:https://www.ctbirding.org/wp-content/uploads/Merlin_in_Prospect_Park_63386.jpg
END:VEVENT
END:VCALENDAR