BEGIN:VCALENDAR
VERSION:2.0
PRODID:-//Connecticut Ornithological Association | COA - ECPv6.15.20//NONSGML v1.0//EN
CALSCALE:GREGORIAN
METHOD:PUBLISH
X-WR-CALNAME:Connecticut Ornithological Association | COA
X-ORIGINAL-URL:https://www.ctbirding.org
X-WR-CALDESC:Events for Connecticut Ornithological Association | COA
REFRESH-INTERVAL;VALUE=DURATION:PT1H
X-Robots-Tag:noindex
X-PUBLISHED-TTL:PT1H
BEGIN:VTIMEZONE
TZID:America/New_York
BEGIN:DAYLIGHT
TZOFFSETFROM:-0500
TZOFFSETTO:-0400
TZNAME:EDT
DTSTART:20250309T070000
END:DAYLIGHT
BEGIN:STANDARD
TZOFFSETFROM:-0400
TZOFFSETTO:-0500
TZNAME:EST
DTSTART:20251102T060000
END:STANDARD
BEGIN:DAYLIGHT
TZOFFSETFROM:-0500
TZOFFSETTO:-0400
TZNAME:EDT
DTSTART:20260308T070000
END:DAYLIGHT
BEGIN:STANDARD
TZOFFSETFROM:-0400
TZOFFSETTO:-0500
TZNAME:EST
DTSTART:20261101T060000
END:STANDARD
BEGIN:DAYLIGHT
TZOFFSETFROM:-0500
TZOFFSETTO:-0400
TZNAME:EDT
DTSTART:20270314T070000
END:DAYLIGHT
BEGIN:STANDARD
TZOFFSETFROM:-0400
TZOFFSETTO:-0500
TZNAME:EST
DTSTART:20271107T060000
END:STANDARD
END:VTIMEZONE
BEGIN:VEVENT
DTSTART;TZID=America/New_York:20260303T184500
DTEND;TZID=America/New_York:20260303T200000
DTSTAMP:20260423T064705
CREATED:20260223T022916Z
LAST-MODIFIED:20260223T023132Z
UID:10009282-1772563500-1772568000@www.ctbirding.org
SUMMARY:RESCHEDULED: Western CT Bird Club: Talk - Bird Migration by Chris Wood
DESCRIPTION:The WCBC meeting Feb. 19 failed due to technical glitches and now Chris Wood has agreed to reschedule his talk for Tuesday\, March 3 at 7:00 pm on Zoom. \nRescheduled Meeting – via Zoom \n\n\n\n \n\n\nTitle:  Bird Migration and Connecticut\n \n\nWho: Christopher Wood\, Past President of the COA \n \n\n\n\n\n Chris Wood has been a birder and photographer for over 50 years. He has a Master’s Degree in biology and studied under famed ornithologist Dr. Noble Proctor.  Chris is retired after a career as a state government executive\, a land conservation and management planner with The Nature Conservancy\, a municipal planner\, and a private land use consultant.  He is a past president of the Connecticut Ornithological Association\, a founding member of the Western Connecticut Bird Club\, and he served as chair of the first Connecticut Breeding Bird Atlas steering committee.  Chris now spends much of his time photographing birds and nature\, traveling to the neotropics and southwest US to see and photograph as many different hummingbirds as possible\, and helping maintain their yard and gardens in Woodbury Connecticut.  Chris’s photography can be sampled here: CSWood PhotoSampler\n \n\n\nDescription:  The natural phenomenon of bird migration is easily observed and studied in Connecticut due to the state’s location\, geography\, and habitat diversity.  Wood will present an overview of bird migration\, with particular consideration of where Connecticut fits into the big picture of bird conservation and the enjoyment of the hobby of birding.  With a state list of over 450 birds\, many of which are migrants through the state\, Connecticut birders have the opportunity to see well over one quarter of all the bird species found in the United States.  Sustaining necessary habitats for breeding birds and migrants in our highly developed state is an important goal for land conservation efforts and this presentation discusses efforts and strategies to attain that goal.\n \nFree and open to the public.\n \n\n\nTo request the link\, please contact Chris Wood at cwood022@gmail.com.\n\n\n \n\n\n\n \n\n\n\n \n\n\n\n 
URL:https://www.ctbirding.org/eventcal/western-bird-club-february-monthly-meeting-2/
LOCATION:Online\, CT\, United States
CATEGORIES:Free,Online,Talk,Western Connecticut Bird Club
ATTACH;FMTTYPE=image/jpeg:https://www.ctbirding.org/wp-content/uploads/Chris-Wood.jpeg
ORGANIZER;CN="Western Connecticut Bird Club":MAILTO:westernctbirdclub@gmail.com 
END:VEVENT
BEGIN:VEVENT
DTSTART;TZID=America/New_York:20260304T190000
DTEND;TZID=America/New_York:20260304T203000
DTSTAMP:20260423T064705
CREATED:20260106T140848Z
LAST-MODIFIED:20260215T234020Z
UID:10009168-1772650800-1772656200@www.ctbirding.org
SUMMARY:Hartford Audubon Society: Birding with your Phone
DESCRIPTION:Mar 4\, 7:00 pm– Birding With Your Phone  \nVirtual Workshop via Zoom – RESERVATION REQUIRED \nA 1-1/2 hour\, virtual hands-on workshop with Ken Elkins. Ken will teach attendees how to use and refine the use of eBird\, Merlin\, several bird guides\, and more.\nRegistration is required\, so email Sarah to reserve a space. Participants will be sent a list of apps to have before the workshop. \nSarah Faulkner sffaulkner@comcast.net / 860-543-1280 T \n \n 
URL:https://www.ctbirding.org/eventcal/hartford-audubon-society-birding-with-your-phone/
LOCATION:Online\, CT\, United States
CATEGORIES:Free,Hartford Audubon,Online,Talk
ATTACH;FMTTYPE=image/jpeg:https://www.ctbirding.org/wp-content/uploads/ctBirds-Listserv-1-e1637507850209.jpg
END:VEVENT
BEGIN:VEVENT
DTSTART;TZID=America/New_York:20260317T183000
DTEND;TZID=America/New_York:20260317T200000
DTSTAMP:20260423T064705
CREATED:20260215T162023Z
LAST-MODIFIED:20260216T002347Z
UID:10009251-1773772200-1773777600@www.ctbirding.org
SUMMARY:CT Audubon\, Pomfret: The Plight of our Birds - A Call to Action
DESCRIPTION:The Plight of Our Birds: A Call to Action\nTuesday\, March 17\, 2026\, at 6:30 p.m.\n \nLearn about the Connecticut Bird Atlas and the overall plight of birds in North America. The atlas is the result of four years of field work by almost 1\,000 volunteer birders. The goal was to map all species of birds that occur in the state. Learn what the data reveals about Connecticut’s birds. Dr Min Huang and Craig Repasz will outline key findings and show us how we can work collectively to reverse the population decline of our cherished birds.\n \nFree.  Join us at the Center or via Zoom.\n \nREGISTER FOR EVENT HERE
URL:https://www.ctbirding.org/eventcal/ct-audubon-pomfret-the-plight-of-our-birds-a-call-to-action/
LOCATION:Online and In-person\, CT\, United States
CATEGORIES:CT Audubon,Online,Pomfret,Talk
ATTACH;FMTTYPE=image/jpeg:https://www.ctbirding.org/wp-content/uploads/Big-Jan-Blocks-legend.jpg
END:VEVENT
BEGIN:VEVENT
DTSTART;TZID=America/New_York:20260326T190000
DTEND;TZID=America/New_York:20260326T200000
DTSTAMP:20260423T064705
CREATED:20251210T155926Z
LAST-MODIFIED:20260106T003324Z
UID:10009111-1774551600-1774555200@www.ctbirding.org
SUMMARY:CT Audubon Deer Pond Farm: Bird Anatomy Basics
DESCRIPTION:Bird Anatomy Basics (via Zoom)\n\nMarch 26\, 7-8 PM\n \n\nBirders are captivated by the song\, flight patterns\, and plumage of many birds. Enhance your birding experience with this simplified presentation on how birds have evolved. Learn about the incredible ways bird bodies have been shaped by their evolutionary history. Find out have been shaped by their evolutionary history. Find out how learning bird anatomy can help you hone your birding skills. Join avian expert Sanctuary Manager/Naturalist Lori Lichtenauer for this bird anatomy webinar via Zoom.  Beginner-friendly class\, all levels are welcome.\n \nClick here to register for the Bird Anatomy Basics Program.
URL:https://www.ctbirding.org/eventcal/ct-audubon-deer-pond-bird-anatomy-basics/
LOCATION:Online\, CT\, United States
CATEGORIES:CT Audubon,Deer Pond Farm,Free,Online,Talk
ATTACH;FMTTYPE=image/jpeg:https://www.ctbirding.org/wp-content/uploads/DSC1041-2-e1638453585370.jpg
ORGANIZER;CN="CT Audubon Deer Pond Farm":MAILTO:dwallin@ctaudubon.org
END:VEVENT
END:VCALENDAR