BEGIN:VCALENDAR
VERSION:2.0
PRODID:-//Connecticut Ornithological Association | COA - ECPv6.15.20//NONSGML v1.0//EN
CALSCALE:GREGORIAN
METHOD:PUBLISH
X-ORIGINAL-URL:https://www.ctbirding.org
X-WR-CALDESC:Events for Connecticut Ornithological Association | COA
REFRESH-INTERVAL;VALUE=DURATION:PT1H
X-Robots-Tag:noindex
X-PUBLISHED-TTL:PT1H
BEGIN:VTIMEZONE
TZID:America/New_York
BEGIN:DAYLIGHT
TZOFFSETFROM:-0500
TZOFFSETTO:-0400
TZNAME:EDT
DTSTART:20250309T070000
END:DAYLIGHT
BEGIN:STANDARD
TZOFFSETFROM:-0400
TZOFFSETTO:-0500
TZNAME:EST
DTSTART:20251102T060000
END:STANDARD
BEGIN:DAYLIGHT
TZOFFSETFROM:-0500
TZOFFSETTO:-0400
TZNAME:EDT
DTSTART:20260308T070000
END:DAYLIGHT
BEGIN:STANDARD
TZOFFSETFROM:-0400
TZOFFSETTO:-0500
TZNAME:EST
DTSTART:20261101T060000
END:STANDARD
BEGIN:DAYLIGHT
TZOFFSETFROM:-0500
TZOFFSETTO:-0400
TZNAME:EDT
DTSTART:20270314T070000
END:DAYLIGHT
BEGIN:STANDARD
TZOFFSETFROM:-0400
TZOFFSETTO:-0500
TZNAME:EST
DTSTART:20271107T060000
END:STANDARD
END:VTIMEZONE
BEGIN:VEVENT
DTSTART;TZID=America/New_York:20260522T080000
DTEND;TZID=America/New_York:20260522T100000
DTSTAMP:20260424T222606
CREATED:20260416T175043Z
LAST-MODIFIED:20260416T175043Z
UID:10009436-1779436800-1779444000@www.ctbirding.org
SUMMARY:Litchfield Audubon: Bird Walk in Mohawk State Forest
DESCRIPTION:May 22\, 2026\nFriday\, 8:00 a.m.\nLocation: Goshen\, CT\n\nWe will bird by foot and car\, looking for Northern Waterthrushes and Ruby-throated Hummingbirds\, and listening for orioles\, flycatchers\, and vireos.\n\nMeet at the entrance parking area\, 20 Mohawk Mountain Road (Route 4) in Goshen.\n\nQuestions? Contact Donna Rose Smith at 1ffastbird@gmail.com.
URL:https://www.ctbirding.org/eventcal/litchfield-audubon-bird-walk-in-mohawk-state-forest/
LOCATION:Mohawk Mountain State Park\, Route 4\, Cornwall\, CT\, United States
CATEGORIES:Free,Litchfield Hills,Walk
END:VEVENT
BEGIN:VEVENT
DTSTART;TZID=America/New_York:20260529T080000
DTEND;TZID=America/New_York:20260529T100000
DTSTAMP:20260424T222606
CREATED:20260416T175638Z
LAST-MODIFIED:20260416T180041Z
UID:10009437-1780041600-1780048800@www.ctbirding.org
SUMMARY:Litchfield Audubon: Birding on Lower River Road\, West Cornwall
DESCRIPTION:May 29\, 2026\nFriday\, 8:00 a.m.\nLocation: West Cornwall\, CT\n\nOn past visits to this under-birded spot\, we have had Ruffed Grouse\, Blackburnian Warbler\, Acadian Flycatcher\, and other northern species. To get there from Route 7\, cross the West Cornwall covered bridge and turn right down River Road. If coming from the east\, turn left onto River Road (do not cross the covered bridge).\n\nMeet at the parking area past the Trinity Retreat Center at the end of the road.\n\nQuestions? Contact Donna Rose Smith at 1ffastbird@gmail.com.
URL:https://www.ctbirding.org/eventcal/litchfield-audubon-birding-on-lower-river-road-west-cornwall/
LOCATION:CT
CATEGORIES:Free,Litchfield Hills,Walk
END:VEVENT
BEGIN:VEVENT
DTSTART;TZID=America/New_York:20260531T090000
DTEND;TZID=America/New_York:20260531T130000
DTSTAMP:20260424T222606
CREATED:20260416T180630Z
LAST-MODIFIED:20260416T180822Z
UID:10009438-1780218000-1780232400@www.ctbirding.org
SUMMARY:Litchfield Audubon: Picnic and Birding at Shepaug Dam
DESCRIPTION:May 31\, 2026\nSunday\, 9:00 a.m.\nLocation: Southbury\, CT\n\nRuss Naylor will lead us on a bird walk to the Shepaug Dam to find breeding birds — warblers (Pine\, Prairie\, Blue-winged\, etc.)\, edge and field species (Eastern Towhees\, Field Sparrows\, American Bluebirds)\, plus some special treats: a Cliff Swallow colony\, Spotted Sandpipers\, ravens\, Common Mergansers\, Osprey\, perhaps even a Bald Eagle or two. Some of these birds will be nesting\, and we’re apt to be serenaded by Orchard Orioles and Warbling Vireos.\n\nAfter our walk\, we’ll enjoy an informal picnic (bring your lunch and beverage) and swap bird or outdoor tales in the late-spring warmth (we hope!).\n\nMeet at 7:30 outside the Canfield Corner Pharmacy at the junction of Route 6 (Main Street North) and Route 47 in Woodbury.\n\nFor more information\, call Russ Naylor at 203-841-7779; leave a message for a return call.
URL:https://www.ctbirding.org/eventcal/litchfield-audubon-picnic-and-birding-at-shepaug-dam/
LOCATION:Shepaug Dam\, River Rd.\, Southbury\, CT\, United States
CATEGORIES:Free,Litchfield Hills,Walk
END:VEVENT
END:VCALENDAR