BEGIN:VCALENDAR
VERSION:2.0
PRODID:-//Connecticut Ornithological Association | COA - ECPv6.15.20//NONSGML v1.0//EN
CALSCALE:GREGORIAN
METHOD:PUBLISH
X-ORIGINAL-URL:https://www.ctbirding.org
X-WR-CALDESC:Events for Connecticut Ornithological Association | COA
REFRESH-INTERVAL;VALUE=DURATION:PT1H
X-Robots-Tag:noindex
X-PUBLISHED-TTL:PT1H
BEGIN:VTIMEZONE
TZID:America/New_York
BEGIN:DAYLIGHT
TZOFFSETFROM:-0500
TZOFFSETTO:-0400
TZNAME:EDT
DTSTART:20250309T070000
END:DAYLIGHT
BEGIN:STANDARD
TZOFFSETFROM:-0400
TZOFFSETTO:-0500
TZNAME:EST
DTSTART:20251102T060000
END:STANDARD
BEGIN:DAYLIGHT
TZOFFSETFROM:-0500
TZOFFSETTO:-0400
TZNAME:EDT
DTSTART:20260308T070000
END:DAYLIGHT
BEGIN:STANDARD
TZOFFSETFROM:-0400
TZOFFSETTO:-0500
TZNAME:EST
DTSTART:20261101T060000
END:STANDARD
BEGIN:DAYLIGHT
TZOFFSETFROM:-0500
TZOFFSETTO:-0400
TZNAME:EDT
DTSTART:20270314T070000
END:DAYLIGHT
BEGIN:STANDARD
TZOFFSETFROM:-0400
TZOFFSETTO:-0500
TZNAME:EST
DTSTART:20271107T060000
END:STANDARD
END:VTIMEZONE
BEGIN:VEVENT
DTSTART;TZID=America/New_York:20260426T073000
DTEND;TZID=America/New_York:20260426T103000
DTSTAMP:20260419T090818
CREATED:20260105T152219Z
LAST-MODIFIED:20260401T190653Z
UID:10009167-1777188600-1777199400@www.ctbirding.org
SUMMARY:New Haven Bird Club: Field Trip - Osbornedale State Park/Kellog Environmental Center
DESCRIPTION:Field Trip – Kellogg Environmental Center and Osbornedale State Park\, Derby – Maria Stockmal \n\nApril 26 @ 7:30 am – 10:30 am\n\n\n\nOsbornedale State Park offers a variety of species in its fields and forest\, and around its ponds. It is always a surprise which species will be discovered as we walk through the park. We may see a flyover Bald Eagle\, nesting Bluebirds\, early warbler migrants\, Green Heron\, and Orchard Oriole\, as well as Indigo Bunting\, Rose-Breasted Grosbeak\, and the various thrushes. \nWe will explore the Kellogg Environmental Center grounds and then walk over to Osbornedale Park to explore and see what we find. \nMeet at the Kellogg Environmental Center parking lot at 500 Hawthorne Avenue\, Derby. \nLeader: Maria Stockmal\, 203-305-3728 or m.stockmal@snet.net \n \n 
URL:https://www.ctbirding.org/eventcal/new-haven-bird-club-field-trip-osbornedale-state-park-kellog-environmental-center/
LOCATION:Kellogg Environmental Center and Osbornedale State Park\, 500 Hawthorne Ave.\, Derby\, CT\, 06418\, United States
CATEGORIES:Field Trip,Free,New Haven Bird Club
ATTACH;FMTTYPE=image/jpeg:https://www.ctbirding.org/wp-content/uploads/Bald-Eagle.-Cynthia-Ehlinger-12.2020-e1636852295645.jpg
ORGANIZER;CN="New Haven Bird Club":MAILTO:ask@newhavenbirdclub.org
END:VEVENT
BEGIN:VEVENT
DTSTART;TZID=America/New_York:20260430T060000
DTEND;TZID=America/New_York:20260430T150000
DTSTAMP:20260419T090818
CREATED:20251210T162541Z
LAST-MODIFIED:20260406T001850Z
UID:10009114-1777528800-1777561200@www.ctbirding.org
SUMMARY:CT Audubon EcoTravel: Early Spring Migrants
DESCRIPTION:Early Spring Migrants \n\nThursday\, April 30     6 a.m. – 3 p.m.\nLate April is the beginning of the intense migration period when birds head north to summer haunts. With favorable weather and winds\, some species get a head start and we plan to greet them! Visit places known for their great diversity of migrants to see them in nuptial plumage and listen to their spring songs before the leaves make them more difficult to spot. \nLeader: Matt Bell.\nFee: $90. Members: $75.
URL:https://www.ctbirding.org/eventcal/ct-audubon-eco-travel-early-spring-migrants/
LOCATION:CT Audubon EcoTravel\, 30 Plains Road\, Essex\, CT\, 06426\, United States
CATEGORIES:CT Audubon,EcoTravel,Field Trip
ATTACH;FMTTYPE=image/jpeg:https://www.ctbirding.org/wp-content/uploads/Black-throated-Green-Warbler.-Chris-Wood.jpeg
END:VEVENT
END:VCALENDAR