BEGIN:VCALENDAR
VERSION:2.0
PRODID:-//Connecticut Ornithological Association | COA - ECPv6.15.20//NONSGML v1.0//EN
CALSCALE:GREGORIAN
METHOD:PUBLISH
X-WR-CALNAME:Connecticut Ornithological Association | COA
X-ORIGINAL-URL:https://www.ctbirding.org
X-WR-CALDESC:Events for Connecticut Ornithological Association | COA
REFRESH-INTERVAL;VALUE=DURATION:PT1H
X-Robots-Tag:noindex
X-PUBLISHED-TTL:PT1H
BEGIN:VTIMEZONE
TZID:America/New_York
BEGIN:DAYLIGHT
TZOFFSETFROM:-0500
TZOFFSETTO:-0400
TZNAME:EDT
DTSTART:20250309T070000
END:DAYLIGHT
BEGIN:STANDARD
TZOFFSETFROM:-0400
TZOFFSETTO:-0500
TZNAME:EST
DTSTART:20251102T060000
END:STANDARD
BEGIN:DAYLIGHT
TZOFFSETFROM:-0500
TZOFFSETTO:-0400
TZNAME:EDT
DTSTART:20260308T070000
END:DAYLIGHT
BEGIN:STANDARD
TZOFFSETFROM:-0400
TZOFFSETTO:-0500
TZNAME:EST
DTSTART:20261101T060000
END:STANDARD
BEGIN:DAYLIGHT
TZOFFSETFROM:-0500
TZOFFSETTO:-0400
TZNAME:EDT
DTSTART:20270314T070000
END:DAYLIGHT
BEGIN:STANDARD
TZOFFSETFROM:-0400
TZOFFSETTO:-0500
TZNAME:EST
DTSTART:20271107T060000
END:STANDARD
END:VTIMEZONE
BEGIN:VEVENT
DTSTART;TZID=America/New_York:20260516T080000
DTEND;TZID=America/New_York:20260516T110000
DTSTAMP:20260422T113448
CREATED:20260306T173926Z
LAST-MODIFIED:20260409T233419Z
UID:10009310-1778918400-1778929200@www.ctbirding.org
SUMMARY:New Haven Bird Club: Sleeping Giant State Park - Field Trip
DESCRIPTION:Field Trip – Sleeping Giant State Park – Jim Sirch\, Craig Repasz and DeWitt Allen \n\nMay 16\, 2026 @ 8:00 am – 11:00 am\n\n\n\nSleeping Giant dominates the landscape north of New Haven. The park hosts diverse habitats: riparian woods\, rivers and streams\,  stands of white pines\, mature deciduous forests\, and cliffs and meadow edge. Although it is famous for its ankle-twisting and heart-pumping terrain\, we will bird along the uphill but (mostly) smooth-surfaced Tower Path. As we move slowly along the Path\, we can expect to find a rich mix of migrant and resident warblers\, thrushes\, vireos\, and woodpeckers. We should be able to locate the nesting ravens and may also get glimpses of the resident Peregrine Falcons. \nMeet at the Sleeping Giant State Park entrance on Mt. Carmel Avenue\, Hamden. \nLeaders: Jim Sirch\, jimsirch95@gmail.com; \nCraig Repasz\, 203-745-6683 or crepasz@hotmail.com; \nDeWitt Allen\, 860-949-0995 or allendatlow@gmail.com
URL:https://www.ctbirding.org/eventcal/new-haven-bird-club-sleeping-giant-state-park-field-trip/
LOCATION:Sleeping Giant State Park\, Mt. Carmel Avenue\, Hamden\, CT\, United States
CATEGORIES:Field Trip,Free,New Haven Bird Club,Walk
ATTACH;FMTTYPE=image/jpeg:https://www.ctbirding.org/wp-content/uploads/Downy-Woodpecker-2021-CEhlinger.jpg
ORGANIZER;CN="New Haven Bird Club":MAILTO:ask@newhavenbirdclub.org
END:VEVENT
END:VCALENDAR