BEGIN:VCALENDAR
VERSION:2.0
PRODID:-//Connecticut Ornithological Association | COA - ECPv6.15.20//NONSGML v1.0//EN
CALSCALE:GREGORIAN
METHOD:PUBLISH
X-WR-CALNAME:Connecticut Ornithological Association | COA
X-ORIGINAL-URL:https://www.ctbirding.org
X-WR-CALDESC:Events for Connecticut Ornithological Association | COA
REFRESH-INTERVAL;VALUE=DURATION:PT1H
X-Robots-Tag:noindex
X-PUBLISHED-TTL:PT1H
BEGIN:VTIMEZONE
TZID:America/New_York
BEGIN:DAYLIGHT
TZOFFSETFROM:-0500
TZOFFSETTO:-0400
TZNAME:EDT
DTSTART:20250309T070000
END:DAYLIGHT
BEGIN:STANDARD
TZOFFSETFROM:-0400
TZOFFSETTO:-0500
TZNAME:EST
DTSTART:20251102T060000
END:STANDARD
BEGIN:DAYLIGHT
TZOFFSETFROM:-0500
TZOFFSETTO:-0400
TZNAME:EDT
DTSTART:20260308T070000
END:DAYLIGHT
BEGIN:STANDARD
TZOFFSETFROM:-0400
TZOFFSETTO:-0500
TZNAME:EST
DTSTART:20261101T060000
END:STANDARD
BEGIN:DAYLIGHT
TZOFFSETFROM:-0500
TZOFFSETTO:-0400
TZNAME:EDT
DTSTART:20270314T070000
END:DAYLIGHT
BEGIN:STANDARD
TZOFFSETFROM:-0400
TZOFFSETTO:-0500
TZNAME:EST
DTSTART:20271107T060000
END:STANDARD
END:VTIMEZONE
BEGIN:VEVENT
DTSTART;TZID=America/New_York:20260510T060000
DTEND;TZID=America/New_York:20260510T170000
DTSTAMP:20260421T074332
CREATED:20260306T172918Z
LAST-MODIFIED:20260408T005336Z
UID:10009308-1778392800-1778432400@www.ctbirding.org
SUMMARY:New Haven Bird Club: Big Day Marathon
DESCRIPTION:Big Day Marathon \n\nMay 10\, 2026 @ 6:00 am – 5:00 pm\n\n\n\nTake part in all or part of this event. We’ll focus on New Haven area hotspots\, seeking 100–130 species. We start at East Rock and search several other local migrant traps\, as well as the coast from Lordship to Hammonasset. The Big Day could potentially involve several miles of walking on more strenuous terrain. \nMeet at the Eli Whitney Museum parking lot\, 915 Whitney Avenue\, Hamden. \nLeader: John Oshlick\, 203-584-1955 or john.oshlic@gmail.com
URL:https://www.ctbirding.org/eventcal/new-haven-bird-club-big-day-marathon-may-10th/
LOCATION:Eli Whitney Museum\, 915 Whitney Avenue\, Hamden\, CT\, United States
CATEGORIES:Field Trip,Free,New Haven Bird Club
ATTACH;FMTTYPE=image/jpeg:https://www.ctbirding.org/wp-content/uploads/Prothonotary-Warbler-16x9-1-e1649341765741.jpeg
ORGANIZER;CN="New Haven Bird Club":MAILTO:ask@newhavenbirdclub.org
END:VEVENT
END:VCALENDAR