BEGIN:VCALENDAR
VERSION:2.0
PRODID:-//Connecticut Ornithological Association | COA - ECPv6.15.20//NONSGML v1.0//EN
CALSCALE:GREGORIAN
METHOD:PUBLISH
X-WR-CALNAME:Connecticut Ornithological Association | COA
X-ORIGINAL-URL:https://www.ctbirding.org
X-WR-CALDESC:Events for Connecticut Ornithological Association | COA
REFRESH-INTERVAL;VALUE=DURATION:PT1H
X-Robots-Tag:noindex
X-PUBLISHED-TTL:PT1H
BEGIN:VTIMEZONE
TZID:America/New_York
BEGIN:DAYLIGHT
TZOFFSETFROM:-0500
TZOFFSETTO:-0400
TZNAME:EDT
DTSTART:20250309T070000
END:DAYLIGHT
BEGIN:STANDARD
TZOFFSETFROM:-0400
TZOFFSETTO:-0500
TZNAME:EST
DTSTART:20251102T060000
END:STANDARD
BEGIN:DAYLIGHT
TZOFFSETFROM:-0500
TZOFFSETTO:-0400
TZNAME:EDT
DTSTART:20260308T070000
END:DAYLIGHT
BEGIN:STANDARD
TZOFFSETFROM:-0400
TZOFFSETTO:-0500
TZNAME:EST
DTSTART:20261101T060000
END:STANDARD
BEGIN:DAYLIGHT
TZOFFSETFROM:-0500
TZOFFSETTO:-0400
TZNAME:EDT
DTSTART:20270314T070000
END:DAYLIGHT
BEGIN:STANDARD
TZOFFSETFROM:-0400
TZOFFSETTO:-0500
TZNAME:EST
DTSTART:20271107T060000
END:STANDARD
END:VTIMEZONE
BEGIN:VEVENT
DTSTART;TZID=America/New_York:20260509T073000
DTEND;TZID=America/New_York:20260509T130000
DTSTAMP:20260423T074145
CREATED:20260306T172632Z
LAST-MODIFIED:20260408T003155Z
UID:10009307-1778311800-1778331600@www.ctbirding.org
SUMMARY:New Haven Bird Club: River Road in Kent Field Trip
DESCRIPTION:Field Trip – River Road\, Kent – Travels Along a Riparian Woodland Corridor – Allan Welby\n\nMay 9\, 2026 @ 7:30 am – 1:00 pm\n\n\n\nRiver Road in Kent along the Housatonic River provides a major north-south riparian corridor for spring migration. River Road has produced a nice variety of Northwestern Connecticut nesting species including Acadian and Least Flycatchers; Yellow-throated and Blue-headed Vireos; Winter Wren; and Cerulean\, Golden-winged\, and Worm-eating Warblers. The vast uninterrupted forest rising from the river is an ideal location for a moderate to strenuous walk on beautiful terrain. \nMeet in Kent at the old train station\, 3 Railroad Avenue\, just north of the intersection of Routes 7 & 341. We carpool from there. \nLeader: Allan Welby\, 630-303-3411 or antpitta4@yahoo.com
URL:https://www.ctbirding.org/eventcal/new-haven-bird-club-river-road-in-kent-field-trip/
LOCATION:Kent\, Old Train Station\, 43 Railroad St\, Kent\, CT\, United States
CATEGORIES:Field Trip,Free,New Haven Bird Club,Walk
ATTACH;FMTTYPE=image/jpeg:https://www.ctbirding.org/wp-content/uploads/CapeMayWarblerAdMale1FM.jpg
ORGANIZER;CN="New Haven Bird Club":MAILTO:ask@newhavenbirdclub.org
END:VEVENT
BEGIN:VEVENT
DTSTART;TZID=America/New_York:20260509T080000
DTEND;TZID=America/New_York:20260509T170000
DTSTAMP:20260423T074145
CREATED:20260306T151313Z
LAST-MODIFIED:20260408T005835Z
UID:10009291-1778313600-1778346000@www.ctbirding.org
SUMMARY:Hartford Audubon Society: Mount Auburn/Plum Island\, MA Field Trip
DESCRIPTION:May 9 Mount Auburn & Plum Island\, MA – May 9 – Sat 8 am \n580 Mt Auburn St\, Cambridge\, MA \nMount Auburn Cemetery entrance inside front gate. \nAfter cemetery we drive to Plum Island\, Newburyport\, MA \nMount Auburn Cemetery is famous as a Spring migration hotspot with many species of warblers present. From there we will drive (1 r) to Plum Island in Newburyport to see more warblers\, waterfowl and shore birds. One of our most popular trips! \nJon Ward – JWard88787@aol.com – 860-416-3958 T
URL:https://www.ctbirding.org/eventcal/hartford-audubon-society-mount-auburn-plum-island-ma-field-trip/
LOCATION:Mount Auburn\, 580 Mount Auburn Street\, Cambridge\, MA\, United States
CATEGORIES:Field Trip,Free,Hartford Audubon
ATTACH;FMTTYPE=image/jpeg:https://www.ctbirding.org/wp-content/uploads/DSC7334-e1711771012162.jpg
END:VEVENT
END:VCALENDAR