BEGIN:VCALENDAR
VERSION:2.0
PRODID:-//Connecticut Ornithological Association | COA - ECPv6.15.20//NONSGML v1.0//EN
CALSCALE:GREGORIAN
METHOD:PUBLISH
X-WR-CALNAME:Connecticut Ornithological Association | COA
X-ORIGINAL-URL:https://www.ctbirding.org
X-WR-CALDESC:Events for Connecticut Ornithological Association | COA
REFRESH-INTERVAL;VALUE=DURATION:PT1H
X-Robots-Tag:noindex
X-PUBLISHED-TTL:PT1H
BEGIN:VTIMEZONE
TZID:America/New_York
BEGIN:DAYLIGHT
TZOFFSETFROM:-0500
TZOFFSETTO:-0400
TZNAME:EDT
DTSTART:20250309T070000
END:DAYLIGHT
BEGIN:STANDARD
TZOFFSETFROM:-0400
TZOFFSETTO:-0500
TZNAME:EST
DTSTART:20251102T060000
END:STANDARD
BEGIN:DAYLIGHT
TZOFFSETFROM:-0500
TZOFFSETTO:-0400
TZNAME:EDT
DTSTART:20260308T070000
END:DAYLIGHT
BEGIN:STANDARD
TZOFFSETFROM:-0400
TZOFFSETTO:-0500
TZNAME:EST
DTSTART:20261101T060000
END:STANDARD
BEGIN:DAYLIGHT
TZOFFSETFROM:-0500
TZOFFSETTO:-0400
TZNAME:EDT
DTSTART:20270314T070000
END:DAYLIGHT
BEGIN:STANDARD
TZOFFSETFROM:-0400
TZOFFSETTO:-0500
TZNAME:EST
DTSTART:20271107T060000
END:STANDARD
END:VTIMEZONE
BEGIN:VEVENT
DTSTART;TZID=America/New_York:20260507T060000
DTEND;TZID=America/New_York:20260507T150000
DTSTAMP:20260420T223427
CREATED:20251210T162838Z
LAST-MODIFIED:20260406T012331Z
UID:10009115-1778133600-1778166000@www.ctbirding.org
SUMMARY:CT Audubon EcoTravel: Annual Lyme Loop
DESCRIPTION:Annual Lyme Loop\n\nThursday\, May 7     6 a.m. – 3 p.m.\n\nTravel through Lyme and Nehantic State Forest in search of neotropical migrants. The habitats of the state forest include wetlands\, streams\, and ponds\, all excellent places for the morning chorus of neotropical migrants. While the main focus will be on warblers and learning their songs\, vireos\, thrushes and other breeders can be present. Target species include Hooded\, Worm-eating\, and Cerulean warblers.\nLeader: Andy Griswold.\nFee: $90. Members: $75.\n \n 
URL:https://www.ctbirding.org/eventcal/ct-audubon-eco-travel-annual-lyme-loop/
LOCATION:Lyme\, Lyme\, CT\, United States
CATEGORIES:CT Audubon,EcoTravel,Field Trip
ATTACH;FMTTYPE=image/jpeg:https://www.ctbirding.org/wp-content/uploads/Prothonotary-Warbler-16x9-1-e1649341765741.jpeg
END:VEVENT
END:VCALENDAR