BEGIN:VCALENDAR
VERSION:2.0
PRODID:-//Connecticut Ornithological Association | COA - ECPv6.15.20//NONSGML v1.0//EN
CALSCALE:GREGORIAN
METHOD:PUBLISH
X-ORIGINAL-URL:https://www.ctbirding.org
X-WR-CALDESC:Events for Connecticut Ornithological Association | COA
REFRESH-INTERVAL;VALUE=DURATION:PT1H
X-Robots-Tag:noindex
X-PUBLISHED-TTL:PT1H
BEGIN:VTIMEZONE
TZID:America/New_York
BEGIN:DAYLIGHT
TZOFFSETFROM:-0500
TZOFFSETTO:-0400
TZNAME:EDT
DTSTART:20250309T070000
END:DAYLIGHT
BEGIN:STANDARD
TZOFFSETFROM:-0400
TZOFFSETTO:-0500
TZNAME:EST
DTSTART:20251102T060000
END:STANDARD
BEGIN:DAYLIGHT
TZOFFSETFROM:-0500
TZOFFSETTO:-0400
TZNAME:EDT
DTSTART:20260308T070000
END:DAYLIGHT
BEGIN:STANDARD
TZOFFSETFROM:-0400
TZOFFSETTO:-0500
TZNAME:EST
DTSTART:20261101T060000
END:STANDARD
BEGIN:DAYLIGHT
TZOFFSETFROM:-0500
TZOFFSETTO:-0400
TZNAME:EDT
DTSTART:20270314T070000
END:DAYLIGHT
BEGIN:STANDARD
TZOFFSETFROM:-0400
TZOFFSETTO:-0500
TZNAME:EST
DTSTART:20271107T060000
END:STANDARD
END:VTIMEZONE
BEGIN:VEVENT
DTSTART;TZID=America/New_York:20260614T080000
DTEND;TZID=America/New_York:20260614T110000
DTSTAMP:20260422T184115
CREATED:20260306T182337Z
LAST-MODIFIED:20260306T182405Z
UID:10009320-1781424000-1781434800@www.ctbirding.org
SUMMARY:New Haven Bird Club: Mendell's Folly/Van Epps Preserve - Field Trip
DESCRIPTION:Field Trip – Mendell’s Folly and Van Epps Preserve\, Bethany – John Triana and Christin Arnini\n\nJune 14\, 2026 @ 8:00 am – 11:00 am\n\n\n\nREGISTRATION REQUIRED by June 10\, 2026 \nJoin the Bethany Land Trust and NHBC for a vigorous birding walk on the trails of several of the Bethany Land Trust’s parcels. The properties include a variety of habitats including wetland\, field\, upland deciduous and hemlock forest sections with rocky ledges\, and streams. Expect some steep and rocky areas with rough terrain and uneven and wet footing. Wear appropriate footwear and tick-proof clothing. Bring water. Inclement weather cancels. \nMeet at the roadside parking area at the Van Epps Preserve at 390 Beacon Road (route 42) in Bethany. Off road parking behind the gate is also available. \nTO REGISTER\, contact Bethany Land Trust Trails Chair\, Bob Harrison\, by Friday June 10\, 2026\, via cell 203-506-5888 or bjh51box@gmail.com. Walk will be limited to 20 participants. \nLeaders: John Triana\, 203-758-7203 or jtriana1@rwater.com; Christin Arnini\, 203-671-5567 or cevea55@gmail.com
URL:https://www.ctbirding.org/eventcal/new-haven-bird-club-mendells-folly-van-epps-preserve-field-trip/
CATEGORIES:Field Trip,Free,New Haven Bird Club
ORGANIZER;CN="New Haven Bird Club":MAILTO:ask@newhavenbirdclub.org
END:VEVENT
BEGIN:VEVENT
DTSTART;TZID=America/New_York:20260620T080000
DTEND;TZID=America/New_York:20260620T110000
DTSTAMP:20260422T184115
CREATED:20260306T182639Z
LAST-MODIFIED:20260306T182639Z
UID:10009321-1781942400-1781953200@www.ctbirding.org
SUMMARY:New Haven Bird Club: Brooksvale Park - Field Trip
DESCRIPTION:Field Trip – Brooksvale Park\, Hamden – Alan Malina and DeWitt Allen\n\nJune 20\, 2026 @ 8:00 am – 11:00 am\n\n\n\nBrooksvale is a city park with a small barnyard for children. The rest of the park features a tree-lined pond and streams\, deep woods\, field/wood edges\, and a large weedy field with bluebird/swallow boxes and an array of bird-attracting feeders at a private residence just beyond the park. There is also easy access to the Farmington Canal Greenway Trail. Join us to look for raptors and nesting birds that share the various habitats. \nMeet in the large unpaved parking lot\, just south of the Barnyard main entrance. \nLeaders: Alan Malina\, 203-606-0437 or alm5565@msn.com; DeWitt Allen\, 860-949-0995 or allendatlow@gmail.com
URL:https://www.ctbirding.org/eventcal/new-haven-bird-club-brooksvale-park-field-trip/
LOCATION:Brooksvale Park\, 524 Brooksvale Avenue\, Hamden\, CT\, United States
CATEGORIES:Field Trip,Free,New Haven Bird Club
ORGANIZER;CN="New Haven Bird Club":MAILTO:ask@newhavenbirdclub.org
END:VEVENT
END:VCALENDAR