BEGIN:VCALENDAR
VERSION:2.0
PRODID:-//Connecticut Ornithological Association | COA - ECPv6.15.20//NONSGML v1.0//EN
CALSCALE:GREGORIAN
METHOD:PUBLISH
X-WR-CALNAME:Connecticut Ornithological Association | COA
X-ORIGINAL-URL:https://www.ctbirding.org
X-WR-CALDESC:Events for Connecticut Ornithological Association | COA
REFRESH-INTERVAL;VALUE=DURATION:PT1H
X-Robots-Tag:noindex
X-PUBLISHED-TTL:PT1H
BEGIN:VTIMEZONE
TZID:America/New_York
BEGIN:DAYLIGHT
TZOFFSETFROM:-0500
TZOFFSETTO:-0400
TZNAME:EDT
DTSTART:20250309T070000
END:DAYLIGHT
BEGIN:STANDARD
TZOFFSETFROM:-0400
TZOFFSETTO:-0500
TZNAME:EST
DTSTART:20251102T060000
END:STANDARD
BEGIN:DAYLIGHT
TZOFFSETFROM:-0500
TZOFFSETTO:-0400
TZNAME:EDT
DTSTART:20260308T070000
END:DAYLIGHT
BEGIN:STANDARD
TZOFFSETFROM:-0400
TZOFFSETTO:-0500
TZNAME:EST
DTSTART:20261101T060000
END:STANDARD
BEGIN:DAYLIGHT
TZOFFSETFROM:-0500
TZOFFSETTO:-0400
TZNAME:EDT
DTSTART:20270314T070000
END:DAYLIGHT
BEGIN:STANDARD
TZOFFSETFROM:-0400
TZOFFSETTO:-0500
TZNAME:EST
DTSTART:20271107T060000
END:STANDARD
END:VTIMEZONE
BEGIN:VEVENT
DTSTART;TZID=America/New_York:20260124T073000
DTEND;TZID=America/New_York:20260124T110000
DTSTAMP:20260423T011629
CREATED:20250814T153334Z
LAST-MODIFIED:20260123T131814Z
UID:10008050-1769239800-1769252400@www.ctbirding.org
SUMMARY:Cancelled due to cold weather: Hartford Audubon Society:  Hartford County Boat Launch Tour
DESCRIPTION:Cancelled due to cold weather:  \nJan 24 Hartford County Boat Launch Tour Sat 7:30 am12 South River St\, EnfieldDonald Barnes Boat Launch\nThis is a morning tour of eight area boat launches\, from Enfield to Rocky Hill. It will last until approximately 11am. Dress warmly and bring a scope if you like. Bad weather may cancel the trip.\nPaul Cianfaglione pgcianfaglione@gmail.com 860–836–3443 TAl Gatti algatti22@gmail.com 860–916–7142 T
URL:https://www.ctbirding.org/eventcal/hartford-audubon-society-hartford-county-boat-launch-tour-january-24-2026/
LOCATION:Hartford County\, Hartford\, CT\, United States
CATEGORIES:Field Trip,Free,Hartford Audubon
ATTACH;FMTTYPE=image/jpeg:https://www.ctbirding.org/wp-content/uploads/Red-throated-Loon.jpg
END:VEVENT
BEGIN:VEVENT
DTSTART;TZID=America/New_York:20260131T020000
DTEND;TZID=America/New_York:20260202T015959
DTSTAMP:20260423T011629
CREATED:20251001T184226Z
LAST-MODIFIED:20260104T162341Z
UID:10008573-1769824800-1769997599@www.ctbirding.org
SUMMARY:Hartford Audubon Society: Cape Cod Tour - January 31 - February 1\, 2026
DESCRIPTION:January 31 – Feb 1 2026 –  Cape Cod Tour\, MA Sat 2 daysMeet and stay at The Cove\, Orleans\, Massachusetts \nContact Peter for reservations and details \nThis is New England late–winter birding at its finest. We should see alcids and waterfowl. \nPeter Stephan stephraf@aol.com 860–729–8374 T
URL:https://www.ctbirding.org/eventcal/hartford-audubon-society-cape-cod-tour-february-7-8-2026/
LOCATION:Cape Cod\, Orleans\, MA\, United States
CATEGORIES:Field Trip,Hartford Audubon
ATTACH;FMTTYPE=image/jpeg:https://www.ctbirding.org/wp-content/uploads/500_8520-Enhanced-NR-scaled.jpg
END:VEVENT
END:VCALENDAR