BEGIN:VCALENDAR
VERSION:2.0
PRODID:-//Connecticut Ornithological Association | COA - ECPv6.15.20//NONSGML v1.0//EN
CALSCALE:GREGORIAN
METHOD:PUBLISH
X-WR-CALNAME:Connecticut Ornithological Association | COA
X-ORIGINAL-URL:https://www.ctbirding.org
X-WR-CALDESC:Events for Connecticut Ornithological Association | COA
REFRESH-INTERVAL;VALUE=DURATION:PT1H
X-Robots-Tag:noindex
X-PUBLISHED-TTL:PT1H
BEGIN:VTIMEZONE
TZID:America/New_York
BEGIN:DAYLIGHT
TZOFFSETFROM:-0500
TZOFFSETTO:-0400
TZNAME:EDT
DTSTART:20250309T070000
END:DAYLIGHT
BEGIN:STANDARD
TZOFFSETFROM:-0400
TZOFFSETTO:-0500
TZNAME:EST
DTSTART:20251102T060000
END:STANDARD
BEGIN:DAYLIGHT
TZOFFSETFROM:-0500
TZOFFSETTO:-0400
TZNAME:EDT
DTSTART:20260308T070000
END:DAYLIGHT
BEGIN:STANDARD
TZOFFSETFROM:-0400
TZOFFSETTO:-0500
TZNAME:EST
DTSTART:20261101T060000
END:STANDARD
BEGIN:DAYLIGHT
TZOFFSETFROM:-0500
TZOFFSETTO:-0400
TZNAME:EDT
DTSTART:20270314T070000
END:DAYLIGHT
BEGIN:STANDARD
TZOFFSETFROM:-0400
TZOFFSETTO:-0500
TZNAME:EST
DTSTART:20271107T060000
END:STANDARD
END:VTIMEZONE
BEGIN:VEVENT
DTSTART;TZID=America/New_York:20260207T090000
DTEND;TZID=America/New_York:20260207T160000
DTSTAMP:20260423T080606
CREATED:20260117T184349Z
LAST-MODIFIED:20260123T011106Z
UID:10009202-1770454800-1770480000@www.ctbirding.org
SUMMARY:Audubon CT Greenwich: Greenwich Audubon at Teatown Eagle Fest
DESCRIPTION:Join us—along with many local environmental organizations—at Croton Point Park for Teatown’s Annual EagleFest\, a beloved winter tradition celebrating Bald Eagles and the incredible wildlife of the Hudson River Valley. \nThe 22nd Annual Teatown Hudson River EagleFest is an all-day celebration at Croton Point Park! \nEvent Highlights \n\nLive bird shows featuring birds of prey\nGuided bird walks with opportunities to view eagles through spotting scopes\nHeated tents with educational displays and exhibits\nHands-on crafts and games for children\nFood trucks and more throughout the day\n\nBald Eagles return to the Hudson River each winter\, offering an incredible opportunity to observe these majestic birds during their seasonal migration. We look forward to celebrating together in this special setting. \nSnow Date: Sunday\, February 8\, 2026
URL:https://www.ctbirding.org/eventcal/audubon-ct-greenwich-greenwich-audubon-at-teatown-eagle-fest/
LOCATION:Croton Point Park\, 1 Croton Point Ave.\, Croton-On-Hudson\, NY\, United States
CATEGORIES:Audubon CT,Festival,Greenwich Audubon,Live Birds,National Audubon
ATTACH;FMTTYPE=image/jpeg:https://www.ctbirding.org/wp-content/uploads/BaldEagleMajesty-e1641780832275.jpg
END:VEVENT
BEGIN:VEVENT
DTSTART;TZID=America/New_York:20260425T173000
DTEND;TZID=America/New_York:20260425T203000
DTSTAMP:20260423T080606
CREATED:20260316T155347Z
LAST-MODIFIED:20260401T185833Z
UID:10009347-1777138200-1777149000@www.ctbirding.org
SUMMARY:CT Audubon\, Milford Point: Return of the Osprey!
DESCRIPTION:Return of the Osprey – A gala celebrating one of our states most iconic species\n\nSaturday\, April 25\, 2026\n5:30pm – 8:30pm\nCoastal Center at Milford Point\n \n\n1 Milford Point Road\nMilford\, CT 06460\n203-878-7440\nmilford@ctaudubon.org\n \n\n\nTickets: $75\n2-person Discount: $140\n\nBuy Tickets here:  Support The Return of The Osprey 2026 | PledgeIt for Charities \n\nWe hope you’ll join us for good cheer\, great food and cocktails\, and a lively auction as we welcome spring (and the Osprey!) back to Connecticut. Your support of the Coastal Center is a gift to the region’s wildlife and protected spaces\, and we want to celebrate our successes with you. \nThe Coastal Center staff strive to promote the awareness and preservation of Long Island Sound’s ecosystem\, and the birds and habitats it supports. Visitors have access to the Sound and to tidal salt marshes\, barrier beaches\, tide pools\, and coastal dunes\, making it one of the most significant birding locations in Connecticut. As a part of statewide initiatives\, the Coastal Center also participates in the conservation of several protected species\, especially Osprey\, Purple Martins\, and Piping Plovers. Fundraising events like this make our work possible.
URL:https://www.ctbirding.org/eventcal/ct-audubon-milford-point-return-of-the-osprey/
LOCATION:Connecticut Audubon Society Coastal Center at Milford Point\, 1 Milford Point Rd\, Milford\, CT\, 06460\, United States
CATEGORIES:Coastal Center at Milford Point,CT Audubon,Festival
ATTACH;FMTTYPE=image/jpeg:https://www.ctbirding.org/wp-content/uploads/DSC7515-2.jpg
END:VEVENT
END:VCALENDAR