BEGIN:VCALENDAR
VERSION:2.0
PRODID:-//Connecticut Ornithological Association | COA - ECPv6.15.20//NONSGML v1.0//EN
CALSCALE:GREGORIAN
METHOD:PUBLISH
X-ORIGINAL-URL:https://www.ctbirding.org
X-WR-CALDESC:Events for Connecticut Ornithological Association | COA
REFRESH-INTERVAL;VALUE=DURATION:PT1H
X-Robots-Tag:noindex
X-PUBLISHED-TTL:PT1H
BEGIN:VTIMEZONE
TZID:America/New_York
BEGIN:DAYLIGHT
TZOFFSETFROM:-0500
TZOFFSETTO:-0400
TZNAME:EDT
DTSTART:20250309T070000
END:DAYLIGHT
BEGIN:STANDARD
TZOFFSETFROM:-0400
TZOFFSETTO:-0500
TZNAME:EST
DTSTART:20251102T060000
END:STANDARD
BEGIN:DAYLIGHT
TZOFFSETFROM:-0500
TZOFFSETTO:-0400
TZNAME:EDT
DTSTART:20260308T070000
END:DAYLIGHT
BEGIN:STANDARD
TZOFFSETFROM:-0400
TZOFFSETTO:-0500
TZNAME:EST
DTSTART:20261101T060000
END:STANDARD
BEGIN:DAYLIGHT
TZOFFSETFROM:-0500
TZOFFSETTO:-0400
TZNAME:EDT
DTSTART:20270314T070000
END:DAYLIGHT
BEGIN:STANDARD
TZOFFSETFROM:-0400
TZOFFSETTO:-0500
TZNAME:EST
DTSTART:20271107T060000
END:STANDARD
END:VTIMEZONE
BEGIN:VEVENT
DTSTART;TZID=America/New_York:20260523T060000
DTEND;TZID=America/New_York:20260523T140000
DTSTAMP:20260423T031812
CREATED:20260416T142403Z
LAST-MODIFIED:20260416T142403Z
UID:10009428-1779516000-1779544800@www.ctbirding.org
SUMMARY:CT Audubon Eco-Travel: Croft Preserve Field Trip
DESCRIPTION:Saturday\, May 23\, 2026\n6:00am – 2:00pm \n\nGoshen\, Connecticut\nLed By Matt Bell\n\nMembers:    $85\nNon-Members:    $100 \n\nFor more info and to register:\n(860) 767-0660\necotravel@ctaudubon.org\n\n\n\nLocated in Goshen\, our Croft Preserve is within one of the largest contiguous forest blocks in the state. The fantastic mix of habitats found throughout the preserve are the historic home of uncommon and rare breeding species\, including Ruffed Grouse and American Goshawk. Since the property is managed primarily for wildlife\, the terrain is steep and challenging to navigate. The property also is home to moose\, porcupines\, and more.\n\nRegister here:  Connecticut Audubon’s Croft Preserve | May 23\, 6:00am – 2:00pm | The Connecticut Audubon Society
URL:https://www.ctbirding.org/eventcal/ct-audubon-eco-travel-croft-preserve-field-trip/
LOCATION:Croft’s Preserve\, Goshen\, CT\, United States
CATEGORIES:CT Audubon,EcoTravel,Field Trip
END:VEVENT
BEGIN:VEVENT
DTSTART;TZID=America/New_York:20260523T170000
DTEND;TZID=America/New_York:20260523T200000
DTSTAMP:20260423T031812
CREATED:20260215T192350Z
LAST-MODIFIED:20260215T192350Z
UID:10009269-1779555600-1779566400@www.ctbirding.org
SUMMARY:CT Audubon - Eco Travel: Eagle/Osprey Boats
DESCRIPTION:ECO TRAVEL:\nEagle/Osprey Boats – Saturdays May 16 and 23 5 – 8 pm\n\nConnecticut Audubon Society EcoTravel will again offer boat cruises to search for Bald Eagle\, Osprey\, and other bird species migrating and nesting along the Connecticut River. Bald Eagle can be found along the lower river\, a habitat that hosts a transient winter population as well as nesting residents. Naturalists are on board the vessel to share information about the Connecticut River\, the birdlife\, and natural history.\n\nThe vessel has a heated cabin\, restrooms\, and three decks for optimal viewing. Tours are approximately three hours in length and depart from The Essex Steam Train in Essex. Train ride is included in the cost of the trip. Appropriate for children eight years old and over. Enjoy the beauty of the Connecticut River in spring!\n\nFee: $55 for members and nonmembers.\n\nFor reservations\, click here:\n\nMay 16\n\nMay 23\n\nRESERVATIONS ARE NOT REFUNDABLE.
URL:https://www.ctbirding.org/eventcal/ct-audubon-eco-travel-eagle-osprey-boats/2026-05-23/
LOCATION:Essex Steam Train\, 30 Plains Road\, Essex\, CT\, 06426\, United States
CATEGORIES:CT Audubon,EcoTravel
END:VEVENT
BEGIN:VEVENT
DTSTART;TZID=America/New_York:20260912T070000
DTEND;TZID=America/New_York:20260912T170000
DTSTAMP:20260423T031812
CREATED:20260416T142853Z
LAST-MODIFIED:20260416T142853Z
UID:10009429-1789196400-1789232400@www.ctbirding.org
SUMMARY:CT Audubon - EcoTravel: Long Island Shorebirds
DESCRIPTION:Saturday\, September 12\, 2026\n7:00am – 5:00pm\nQueens\, New York\nLed By TBD\nMembers:    $155\nNon-Members:    $170\nFor more info and to register:\n(860) 767-0660\necotravel@ctaudubon.org\n\n\n\nEach fall\, shorebirds flock to Long Island on their journey south. Large flocks gather both at Jamaica Bay Wildlife Refuge and Jones Beach State Park\, depending on the water levels. Jamaica Bay\, located within Brooklyn and Queens\, is one of the most important urban wildlife refuges\, hosting a variety of habitats\, including salt marsh\, several fresh and brackish pools\, and an open expanse of bay and islands. Jones Beach is home to staging areas for hundreds of American Oystercatchers\, ducks\, and more! Join us as we enjoy the signs of fall.\n\n\n\n\n\n\nRegister here:  Long Island Shorebirds | Sep 12\, 7:00am – 5:00pm | The Connecticut Audubon Society
URL:https://www.ctbirding.org/eventcal/ct-audubon-ecotravel-long-island-shorebirds/
CATEGORIES:CT Audubon,EcoTravel,Field Trip
END:VEVENT
END:VCALENDAR