BEGIN:VCALENDAR
VERSION:2.0
PRODID:-//Connecticut Ornithological Association | COA - ECPv6.15.20//NONSGML v1.0//EN
CALSCALE:GREGORIAN
METHOD:PUBLISH
X-ORIGINAL-URL:https://www.ctbirding.org
X-WR-CALDESC:Events for Connecticut Ornithological Association | COA
REFRESH-INTERVAL;VALUE=DURATION:PT1H
X-Robots-Tag:noindex
X-PUBLISHED-TTL:PT1H
BEGIN:VTIMEZONE
TZID:America/New_York
BEGIN:DAYLIGHT
TZOFFSETFROM:-0500
TZOFFSETTO:-0400
TZNAME:EDT
DTSTART:20250309T070000
END:DAYLIGHT
BEGIN:STANDARD
TZOFFSETFROM:-0400
TZOFFSETTO:-0500
TZNAME:EST
DTSTART:20251102T060000
END:STANDARD
BEGIN:DAYLIGHT
TZOFFSETFROM:-0500
TZOFFSETTO:-0400
TZNAME:EDT
DTSTART:20260308T070000
END:DAYLIGHT
BEGIN:STANDARD
TZOFFSETFROM:-0400
TZOFFSETTO:-0500
TZNAME:EST
DTSTART:20261101T060000
END:STANDARD
BEGIN:DAYLIGHT
TZOFFSETFROM:-0500
TZOFFSETTO:-0400
TZNAME:EDT
DTSTART:20270314T070000
END:DAYLIGHT
BEGIN:STANDARD
TZOFFSETFROM:-0400
TZOFFSETTO:-0500
TZNAME:EST
DTSTART:20271107T060000
END:STANDARD
END:VTIMEZONE
BEGIN:VEVENT
DTSTART;TZID=America/New_York:20260515T060000
DTEND;TZID=America/New_York:20260515T140000
DTSTAMP:20260421T210619
CREATED:20260215T194712Z
LAST-MODIFIED:20260409T225906Z
UID:10009273-1778824800-1778853600@www.ctbirding.org
SUMMARY:CT Audubon\, Pomfret: 20 Warbler Day
DESCRIPTION:20 Warbler Day\nFriday\, May 15\, 2026\, from 6 a.m. to 2 p.m.\n \nDuring the peak of their migration\, we will attempt to find 20 species of warblers in one day.  We will travel to numerous locations. This is our 17th year doing this program.  We have found as many as 21 warbler species!\n \nLimit: 12 people. Fee: $25 members; $50 non-members\n \nPlease register by emailing Andy Rzeznikiewicz at arzeznikiewicz@ctaudubon.org or calling 860-928-4948.
URL:https://www.ctbirding.org/eventcal/ct-audubon-pomfret-20-warbler-day/
LOCATION:CT  Audubon Center at Pomfret\, 218 Day Road\, Pomfret Center\, CT\, 06259\, United States
CATEGORIES:CT Audubon,Pomfret,Walk
ATTACH;FMTTYPE=image/jpeg:https://www.ctbirding.org/wp-content/uploads/Prothonotary-Warbler-16x9-1-e1649341765741.jpeg
END:VEVENT
BEGIN:VEVENT
DTSTART;TZID=America/New_York:20260515T120000
DTEND;TZID=America/New_York:20260515T150000
DTSTAMP:20260421T210619
CREATED:20260411T164416Z
LAST-MODIFIED:20260411T180355Z
UID:10009410-1778846400-1778857200@www.ctbirding.org
SUMMARY:CT Audubon Coastal Center - Milford Point: Coastal Bird Walk #5
DESCRIPTION:Friday\, May 15\, 2026\n12:00pm – 3:00pm\nCoastal Center at Milford Point\n \n1 Milford Point Road\nMilford\, CT 06460\n203-878-7440\nmilford@ctaudubon.org\n\nMembers $15\nNon-members $20\n\n\n\n\nJoin local birding expert Frank Mantlik for a spring bird walk! The Coastal Center is a hub for wildlife all times of the year\, so we’ll take you to some of our favorite sites around the sanctuary’s salt marsh\, woodlands\, and sandbar to look for a variety of birds. Beginner birders are welcome. The Coastal Center has a limited supply of binoculars to loan out if needed. \nThis will be a casual walk for 2-3 hours\, depending on the weather and birding conditions. The walk is fairly flat\, but will take place on loose sand with little shade. Please bring good walking shoes\, binoculars\, and water. Dress appropriately for the weather\, as it tends to be windy at the coast. There are bathrooms on site at the Coastal Center. \nThis walk is subject to cancellation in the event of bad weather. If a walk is cancelled\, you will be offered to transfer your registration to a rescheduled date or receive a refund. \n\n\nCoastal Bird Walk | May 15\, 12:00pm – 3:00pm | Milford Point | The Connecticut Audubon Society
URL:https://www.ctbirding.org/eventcal/ct-audubon-coastal-center-milford-point-coastal-bird-walk-5/
LOCATION:Connecticut Audubon Society Coastal Center at Milford Point\, 1 Milford Point Rd\, Milford\, CT\, 06460\, United States
CATEGORIES:Coastal Center at Milford Point,CT Audubon,Walk
END:VEVENT
END:VCALENDAR