BEGIN:VCALENDAR
VERSION:2.0
PRODID:-//Connecticut Ornithological Association | COA - ECPv6.15.20//NONSGML v1.0//EN
CALSCALE:GREGORIAN
METHOD:PUBLISH
X-WR-CALNAME:Connecticut Ornithological Association | COA
X-ORIGINAL-URL:https://www.ctbirding.org
X-WR-CALDESC:Events for Connecticut Ornithological Association | COA
REFRESH-INTERVAL;VALUE=DURATION:PT1H
X-Robots-Tag:noindex
X-PUBLISHED-TTL:PT1H
BEGIN:VTIMEZONE
TZID:America/New_York
BEGIN:DAYLIGHT
TZOFFSETFROM:-0500
TZOFFSETTO:-0400
TZNAME:EDT
DTSTART:20250309T070000
END:DAYLIGHT
BEGIN:STANDARD
TZOFFSETFROM:-0400
TZOFFSETTO:-0500
TZNAME:EST
DTSTART:20251102T060000
END:STANDARD
BEGIN:DAYLIGHT
TZOFFSETFROM:-0500
TZOFFSETTO:-0400
TZNAME:EDT
DTSTART:20260308T070000
END:DAYLIGHT
BEGIN:STANDARD
TZOFFSETFROM:-0400
TZOFFSETTO:-0500
TZNAME:EST
DTSTART:20261101T060000
END:STANDARD
BEGIN:DAYLIGHT
TZOFFSETFROM:-0500
TZOFFSETTO:-0400
TZNAME:EDT
DTSTART:20270314T070000
END:DAYLIGHT
BEGIN:STANDARD
TZOFFSETFROM:-0400
TZOFFSETTO:-0500
TZNAME:EST
DTSTART:20271107T060000
END:STANDARD
END:VTIMEZONE
BEGIN:VEVENT
DTSTART;TZID=America/New_York:20260505T070000
DTEND;TZID=America/New_York:20260505T100000
DTSTAMP:20260421T124009
CREATED:20260316T153941Z
LAST-MODIFIED:20260407T010009Z
UID:10009346-1777964400-1777975200@www.ctbirding.org
SUMMARY:CT Audubon\, Birdcraft: Spring Bird Walk
DESCRIPTION:May 5\, 2026 – 7 a.m. \n\n\nJoin Conservation Manager Stefan Martin at this historic property to look for returning migrant songbirds. What the Birdcraft Sanctuary lacks in size\, it makes up for in diversity with over 30 species of warblers and nearly 180 species of birds seen at this urban oasis. One of the area’s best locations to photograph warblers in the spring. All levels of birders welcome; appropriate for ages 12 and up. Binoculars recommended. Pre-registration required. \n\n$15 Members\n$20 Non-members \nRegister here: Spring Birdwalk at Birdcraft – The Connecticut Audubon Society
URL:https://www.ctbirding.org/eventcal/ct-audubon-birdcraft-spring-bird-walk/
LOCATION:Birdcraft Sanctuary\, 314 Unquowa Road\, Fairfield\, CT\, 06824\, United States
CATEGORIES:Birdcraft Sanctuary,CT Audubon,Walk
ATTACH;FMTTYPE=image/jpeg:https://www.ctbirding.org/wp-content/uploads/Prothonotary-Warbler-16x9-1-e1649341765741.jpeg
END:VEVENT
BEGIN:VEVENT
DTSTART;TZID=America/New_York:20260505T080000
DTEND;TZID=America/New_York:20260505T103000
DTSTAMP:20260421T124009
CREATED:20260316T142304Z
LAST-MODIFIED:20260321T211731Z
UID:10009335-1777968000-1777977000@www.ctbirding.org
SUMMARY:CT Audubon\, Pomfret: Early Morning Bird Walks
DESCRIPTION:Join Andy on a guided bird walk through the meadows and forests of Pomfret. As the landscape wakes up in April\, these habitats come alive with birdsong\, movement\, and seasonal surprises. You’ll stroll at an easy pace\, listening and looking for a variety of woodland and meadow species—and with luck\, we may hear or even spot the iconic Pileated Woodpecker\, a frequent presence along this route. Wear drab-colored clothing and sturdy footwear. Bring your binoculars. \n$5 CAS members\, $20 nonmembers\nNo registration required \n  \n \n\n\n\n\n\n\n 
URL:https://www.ctbirding.org/eventcal/ct-audubon-pomfret-series-of-early-morning-bird-walks-in-april-may/2026-05-05/
LOCATION:CT  Audubon Center at Pomfret\, 218 Day Road\, Pomfret Center\, CT\, 06259\, United States
CATEGORIES:CT Audubon,Pomfret,Walk
ATTACH;FMTTYPE=image/jpeg:https://www.ctbirding.org/wp-content/uploads/DSC2307-scaled-e1774127751211.jpg
END:VEVENT
BEGIN:VEVENT
DTSTART;TZID=America/New_York:20260505T170000
DTEND;TZID=America/New_York:20260505T180000
DTSTAMP:20260421T124009
CREATED:20260316T173836Z
LAST-MODIFIED:20260406T011144Z
UID:10009354-1778000400-1778004000@www.ctbirding.org
SUMMARY:CT Audubon\, RTP Estuary Center: Spring Bird Walk #1
DESCRIPTION:Tuesday\, May 5\, 2026\n5:00pm – 6:00pm  \nRTP Estuary Center\n100 Lyme St.\nOld Lyme\, CT  \nSearch for spring migrants along the beautiful Lieutenant River Estuary on the grounds of the RTP Estuary Center. We’ll look for songbirds in the bird garden and wetland birds along the marsh. The walk will be approximately .25 miles on level grassy terrain. Restrooms on site.  \nMembers: $5\nNon-Members: $10  \nRegister here:  Spring Bird Walk – The Connecticut Audubon Society
URL:https://www.ctbirding.org/eventcal/rtp-estuary-center-spring-bird-walk-1/
LOCATION:Roger Tory Peterson Estuary Center\, 100 Lyme Street\, Old Lyme\, CT\, United States
CATEGORIES:CT Audubon,Roger Tory Peterson Estuary Center,Walk
ATTACH;FMTTYPE=image/jpeg:https://www.ctbirding.org/wp-content/uploads/Black-throated-Green-Warbler.-Chris-Wood.jpeg
END:VEVENT
BEGIN:VEVENT
DTSTART;TZID=America/New_York:20260505T190000
DTEND;TZID=America/New_York:20260505T200000
DTSTAMP:20260421T124009
CREATED:20260406T173921Z
LAST-MODIFIED:20260407T010448Z
UID:10009399-1778007600-1778011200@www.ctbirding.org
SUMMARY:CT Audubon\, Deer Pond Farm: Bird Song Basics (via Zoom)
DESCRIPTION:Tuesday\, May 5\, 2026\n7:00pm – 8:00pm \n\n \n\nBirds’ songs are beautiful\, but their singing is important for mating and territorial protection.  A well-performed song can be a matter of life or death!\n \nAvian biologist Lori Lichtenauer will help you discover the incredible science of bird songs and learn how to ID your favorite birds by ear\, just in time for peak migration.  Free; suggested donation $5.\n \nTo register: Birdsong Basics (via Zoom) | May 5\, 7:00pm – 8:00pm | Deer Pond Farm | The Connecticut Audubon Society
URL:https://www.ctbirding.org/eventcal/ct-audubon-deer-pond-farm-birdsong-basics-via-zoom/
LOCATION:Online\, CT\, United States
CATEGORIES:CT Audubon,Deer Pond Farm,Online,Talk
ATTACH;FMTTYPE=image/jpeg:https://www.ctbirding.org/wp-content/uploads/Song-Sparrow-G-Pt-e1677248824411.jpg
ORGANIZER;CN="CT Audubon Deer Pond Farm":MAILTO:dwallin@ctaudubon.org
END:VEVENT
END:VCALENDAR