BEGIN:VCALENDAR
VERSION:2.0
PRODID:-//Connecticut Ornithological Association | COA - ECPv6.15.20//NONSGML v1.0//EN
CALSCALE:GREGORIAN
METHOD:PUBLISH
X-WR-CALNAME:Connecticut Ornithological Association | COA
X-ORIGINAL-URL:https://www.ctbirding.org
X-WR-CALDESC:Events for Connecticut Ornithological Association | COA
REFRESH-INTERVAL;VALUE=DURATION:PT1H
X-Robots-Tag:noindex
X-PUBLISHED-TTL:PT1H
BEGIN:VTIMEZONE
TZID:America/New_York
BEGIN:DAYLIGHT
TZOFFSETFROM:-0500
TZOFFSETTO:-0400
TZNAME:EDT
DTSTART:20250309T070000
END:DAYLIGHT
BEGIN:STANDARD
TZOFFSETFROM:-0400
TZOFFSETTO:-0500
TZNAME:EST
DTSTART:20251102T060000
END:STANDARD
BEGIN:DAYLIGHT
TZOFFSETFROM:-0500
TZOFFSETTO:-0400
TZNAME:EDT
DTSTART:20260308T070000
END:DAYLIGHT
BEGIN:STANDARD
TZOFFSETFROM:-0400
TZOFFSETTO:-0500
TZNAME:EST
DTSTART:20261101T060000
END:STANDARD
BEGIN:DAYLIGHT
TZOFFSETFROM:-0500
TZOFFSETTO:-0400
TZNAME:EDT
DTSTART:20270314T070000
END:DAYLIGHT
BEGIN:STANDARD
TZOFFSETFROM:-0400
TZOFFSETTO:-0500
TZNAME:EST
DTSTART:20271107T060000
END:STANDARD
END:VTIMEZONE
BEGIN:VEVENT
DTSTART;TZID=America/New_York:20260215T090000
DTEND;TZID=America/New_York:20260315T130000
DTSTAMP:20260422T063415
CREATED:20260215T183930Z
LAST-MODIFIED:20260216T011324Z
UID:10009264-1771146000-1773579600@www.ctbirding.org
SUMMARY:CT Audubon\, Deer Pond Farm: Shepaug Eagle Viewing
DESCRIPTION:DEER POND FARM:\n \n\nShepaug Eagle View in Southbury\, CT. Now in its 40th season\, this renowned winter birding destination is open from December 24\, 2025 through March 15\, 2026\, on Wednesdays\, Saturdays\, and Sundays from 9:00 a.m. to 1:00 p.m. This is an ideal destination for birders\, families\, school groups\, and nature enthusiasts of all ages.\n \nLive Birds of Prey programs offered on most days operating.\n \nAdmission is free\, Reservations required; please register for directions and more information.\nSee https://ctaudubon.org/deer-pond-farm-programs-classes/
URL:https://www.ctbirding.org/eventcal/ct-audubon-deer-pond-farm-shepaug-eagle-viewing/
LOCATION:Shepaug Dam\, River Rd.\, Southbury\, CT\, United States
CATEGORIES:CT Audubon,Deer Pond Farm
ATTACH;FMTTYPE=image/jpeg:https://www.ctbirding.org/wp-content/uploads/BaldEagleMajesty-e1641780832275.jpg
ORGANIZER;CN="CT Audubon Deer Pond Farm":MAILTO:dwallin@ctaudubon.org
END:VEVENT
BEGIN:VEVENT
DTSTART;TZID=America/New_York:20260314T100000
DTEND;TZID=America/New_York:20260314T120000
DTSTAMP:20260422T063415
CREATED:20251121T152136Z
LAST-MODIFIED:20251129T002315Z
UID:10009066-1773482400-1773489600@www.ctbirding.org
SUMMARY:CT Audubon RTP Estuary Center: Planting for Birds
DESCRIPTION:RTP Estuary Center:  Planting For Birds\n\n\n \n\nWinter Session – Saturday\, December 13; 10 am – 12 p.m.\nSpring Session – Saturday\, March 14; 10 am – 12 p.m.\nSummer Session – Saturday\, June 13; 10 am – 12 p.m.\nFall Session – Saturday\, September 12; 10 am – 12 p.m.\n \nWhile habitat loss poses challenges for birds and wildlife worldwide\, creating backyard habitats offers a solution! In this four-part series\, participants will learn about ways to improve backyard habitats throughout different seasons. Each program will focus on the seasonal needs of birds and specific ways to support them\, using examples from the sanctuary grounds of the RTP Estuary Center in Old Lyme. Each session will include an indoor presentation and an outdoor exploration of the sanctuary grounds and gardens\, accompanied by handouts that list the plants mentioned for each session.\n \n\nClick here to learn about each session!\n \n$20 for members/$25 for non-members for individual sessions\n$75 for members/$95 for non-members for all four sessions\n \nRegister Here for All Four Sessions\n \nRegister Here for a Single Session
URL:https://www.ctbirding.org/eventcal/ct-rtp-estuary-center-planting-for-birds/2026-03-14/
LOCATION:Roger Tory Peterson Estuary Center\, 100 Lyme Street\, Old Lyme\, CT\, United States
CATEGORIES:CT Audubon,Roger Tory Peterson Estuary Center,Talk
ATTACH;FMTTYPE=image/jpeg:https://www.ctbirding.org/wp-content/uploads/as_Bobo5_16x9-scaled.jpg
END:VEVENT
END:VCALENDAR