BEGIN:VCALENDAR
VERSION:2.0
PRODID:-//Connecticut Ornithological Association | COA - ECPv6.15.20//NONSGML v1.0//EN
CALSCALE:GREGORIAN
METHOD:PUBLISH
X-WR-CALNAME:Connecticut Ornithological Association | COA
X-ORIGINAL-URL:https://www.ctbirding.org
X-WR-CALDESC:Events for Connecticut Ornithological Association | COA
REFRESH-INTERVAL;VALUE=DURATION:PT1H
X-Robots-Tag:noindex
X-PUBLISHED-TTL:PT1H
BEGIN:VTIMEZONE
TZID:America/New_York
BEGIN:DAYLIGHT
TZOFFSETFROM:-0500
TZOFFSETTO:-0400
TZNAME:EDT
DTSTART:20250309T070000
END:DAYLIGHT
BEGIN:STANDARD
TZOFFSETFROM:-0400
TZOFFSETTO:-0500
TZNAME:EST
DTSTART:20251102T060000
END:STANDARD
BEGIN:DAYLIGHT
TZOFFSETFROM:-0500
TZOFFSETTO:-0400
TZNAME:EDT
DTSTART:20260308T070000
END:DAYLIGHT
BEGIN:STANDARD
TZOFFSETFROM:-0400
TZOFFSETTO:-0500
TZNAME:EST
DTSTART:20261101T060000
END:STANDARD
BEGIN:DAYLIGHT
TZOFFSETFROM:-0500
TZOFFSETTO:-0400
TZNAME:EDT
DTSTART:20270314T070000
END:DAYLIGHT
BEGIN:STANDARD
TZOFFSETFROM:-0400
TZOFFSETTO:-0500
TZNAME:EST
DTSTART:20271107T060000
END:STANDARD
END:VTIMEZONE
BEGIN:VEVENT
DTSTART;TZID=America/New_York:20261010T080000
DTEND;TZID=America/New_York:20261011T170000
DTSTAMP:20260421T135543
CREATED:20260306T183515Z
LAST-MODIFIED:20260306T183515Z
UID:10009323-1791619200-1791738000@www.ctbirding.org
SUMMARY:New Haven Bird Club: The Big Sit - October\, 2026
DESCRIPTION:The Big Sit!™ 2026\n\nOctober 10\, 2026 – October 11\, 2026\n\n\n\nThe Big Sit! is on! And has migrated back to the New Haven Bird Club\, where it began in 1992. Although there are a few changes\, most stays the same\, including the primary rule: HAVE FUN! The Big Sit is a semi-competitive birding event originated by the New Haven Bird Club. It is open and FREE to anyone (individuals and teams) all over the world! How many birds can you identify in one day while staying within a 17-foot / 5.2-meter diameter circle? That’s the challenge of The Big Sit! \nFinal dates/times and registration will be announced in 2026! Visit the Big Sit website for more information. \nThe Big Sit!™ is a registered trademark of the New Haven Bird Club\, Inc.
URL:https://www.ctbirding.org/eventcal/new-haven-bird-club-the-big-sit-october-2026/
LOCATION:CT
CATEGORIES:Big Sit,Free,New Haven Bird Club
ORGANIZER;CN="New Haven Bird Club":MAILTO:ask@newhavenbirdclub.org
END:VEVENT
END:VCALENDAR